BEGIN:VCALENDAR
VERSION:2.0
PRODID:-//achurchnearyou.com//eventfeed//EN
CALSCALE:GREGORIAN
METHOD:PUBLISH
X-WR-TIMEZONE:UTC
BEGIN:VEVENT
SUMMARY:The Liturgy of the Lord's Passion
DTSTART:20260403T140000Z
DTEND:20260403T150000Z
DTSTAMP:20260421T223015Z
UID:13134422026-04-03 14:00:00+00:00achurchnearyou
CATEGORIES:
DESCRIPTION:At 3pm we continue the Sacred Triduum as we enter into the mys
 tery of the suffering of our Lord with the reading of the Passion Gospel a
 nd the veneration of the Cross. Holy Communion is received from Maundy Thu
 rsday's Mass.
GEO:0.467988;50.856464
LOCATION:The Parish Church of All Saints\, Sidley
URL:https://www.achurchnearyou.com/church/4780/service-and-events/events/1
 313442/
END:VEVENT
END:VCALENDAR
