BEGIN:VCALENDAR
VERSION:2.0
PRODID:-//achurchnearyou.com//eventfeed//EN
CALSCALE:GREGORIAN
METHOD:PUBLISH
X-WR-TIMEZONE:UTC
BEGIN:VEVENT
SUMMARY:Community Coffee Morning at Pebsham Community Hub
DTSTART;TZID=Europe/London:20251110T093000
DTEND;TZID=Europe/London:20251110T103000
DTSTAMP:20260423T060140Z
UID:12458362025-11-10 09:30:00+00:00achurchnearyou
CATEGORIES:
DESCRIPTION:Home made cakes and a great opportunity to chat and meet peopl
 e. Every second Monday of the month
LOCATION:Pebsham Community Hub
URL:https://www.achurchnearyou.com/church/4785/service-and-events/events/1
 245836/
END:VEVENT
BEGIN:VEVENT
SUMMARY:Community Coffee Morning at Pebsham Community Hub
DTSTART;TZID=Europe/London:20251208T093000
DTEND;TZID=Europe/London:20251208T103000
DTSTAMP:20260423T060140Z
UID:12458362025-12-08 09:30:00+00:00achurchnearyou
CATEGORIES:
DESCRIPTION:Home made cakes and a great opportunity to chat and meet peopl
 e. Every second Monday of the month
LOCATION:Pebsham Community Hub
URL:https://www.achurchnearyou.com/church/4785/service-and-events/events/1
 245836/
END:VEVENT
BEGIN:VEVENT
SUMMARY:Community Coffee Morning at Pebsham Community Hub
DTSTART;TZID=Europe/London:20260112T093000
DTEND;TZID=Europe/London:20260112T103000
DTSTAMP:20260423T060140Z
UID:12458362026-01-12 09:30:00+00:00achurchnearyou
CATEGORIES:
DESCRIPTION:Home made cakes and a great opportunity to chat and meet peopl
 e. Every second Monday of the month
LOCATION:Pebsham Community Hub
URL:https://www.achurchnearyou.com/church/4785/service-and-events/events/1
 245836/
END:VEVENT
BEGIN:VEVENT
SUMMARY:Community Coffee Morning at Pebsham Community Hub
DTSTART;TZID=Europe/London:20260209T093000
DTEND;TZID=Europe/London:20260209T103000
DTSTAMP:20260423T060140Z
UID:12458362026-02-09 09:30:00+00:00achurchnearyou
CATEGORIES:
DESCRIPTION:Home made cakes and a great opportunity to chat and meet peopl
 e. Every second Monday of the month
LOCATION:Pebsham Community Hub
URL:https://www.achurchnearyou.com/church/4785/service-and-events/events/1
 245836/
END:VEVENT
BEGIN:VEVENT
SUMMARY:Community Coffee Morning at Pebsham Community Hub
DTSTART;TZID=Europe/London:20260309T093000
DTEND;TZID=Europe/London:20260309T103000
DTSTAMP:20260423T060140Z
UID:12458362026-03-09 09:30:00+00:00achurchnearyou
CATEGORIES:
DESCRIPTION:Home made cakes and a great opportunity to chat and meet peopl
 e. Every second Monday of the month
LOCATION:Pebsham Community Hub
URL:https://www.achurchnearyou.com/church/4785/service-and-events/events/1
 245836/
END:VEVENT
BEGIN:VEVENT
SUMMARY:Community Coffee Morning at Pebsham Community Hub
DTSTART;TZID=Europe/London:20260413T093000
DTEND;TZID=Europe/London:20260413T103000
DTSTAMP:20260423T060140Z
UID:12458362026-04-13 09:30:00+01:00achurchnearyou
CATEGORIES:
DESCRIPTION:Home made cakes and a great opportunity to chat and meet peopl
 e. Every second Monday of the month
LOCATION:Pebsham Community Hub
URL:https://www.achurchnearyou.com/church/4785/service-and-events/events/1
 245836/
END:VEVENT
BEGIN:VEVENT
SUMMARY:Community Coffee Morning at Pebsham Community Hub
DTSTART;TZID=Europe/London:20260511T093000
DTEND;TZID=Europe/London:20260511T103000
DTSTAMP:20260423T060140Z
UID:12458362026-05-11 09:30:00+01:00achurchnearyou
CATEGORIES:
DESCRIPTION:Home made cakes and a great opportunity to chat and meet peopl
 e. Every second Monday of the month
LOCATION:Pebsham Community Hub
URL:https://www.achurchnearyou.com/church/4785/service-and-events/events/1
 245836/
END:VEVENT
BEGIN:VEVENT
SUMMARY:Community Coffee Morning at Pebsham Community Hub
DTSTART;TZID=Europe/London:20260608T093000
DTEND;TZID=Europe/London:20260608T103000
DTSTAMP:20260423T060140Z
UID:12458362026-06-08 09:30:00+01:00achurchnearyou
CATEGORIES:
DESCRIPTION:Home made cakes and a great opportunity to chat and meet peopl
 e. Every second Monday of the month
LOCATION:Pebsham Community Hub
URL:https://www.achurchnearyou.com/church/4785/service-and-events/events/1
 245836/
END:VEVENT
BEGIN:VEVENT
SUMMARY:Community Coffee Morning at Pebsham Community Hub
DTSTART;TZID=Europe/London:20260713T093000
DTEND;TZID=Europe/London:20260713T103000
DTSTAMP:20260423T060140Z
UID:12458362026-07-13 09:30:00+01:00achurchnearyou
CATEGORIES:
DESCRIPTION:Home made cakes and a great opportunity to chat and meet peopl
 e. Every second Monday of the month
LOCATION:Pebsham Community Hub
URL:https://www.achurchnearyou.com/church/4785/service-and-events/events/1
 245836/
END:VEVENT
BEGIN:VEVENT
SUMMARY:Community Coffee Morning at Pebsham Community Hub
DTSTART;TZID=Europe/London:20260810T093000
DTEND;TZID=Europe/London:20260810T103000
DTSTAMP:20260423T060140Z
UID:12458362026-08-10 09:30:00+01:00achurchnearyou
CATEGORIES:
DESCRIPTION:Home made cakes and a great opportunity to chat and meet peopl
 e. Every second Monday of the month
LOCATION:Pebsham Community Hub
URL:https://www.achurchnearyou.com/church/4785/service-and-events/events/1
 245836/
END:VEVENT
BEGIN:VEVENT
SUMMARY:Community Coffee Morning at Pebsham Community Hub
DTSTART;TZID=Europe/London:20260914T093000
DTEND;TZID=Europe/London:20260914T103000
DTSTAMP:20260423T060140Z
UID:12458362026-09-14 09:30:00+01:00achurchnearyou
CATEGORIES:
DESCRIPTION:Home made cakes and a great opportunity to chat and meet peopl
 e. Every second Monday of the month
LOCATION:Pebsham Community Hub
URL:https://www.achurchnearyou.com/church/4785/service-and-events/events/1
 245836/
END:VEVENT
BEGIN:VEVENT
SUMMARY:Community Coffee Morning at Pebsham Community Hub
DTSTART;TZID=Europe/London:20261012T093000
DTEND;TZID=Europe/London:20261012T103000
DTSTAMP:20260423T060140Z
UID:12458362026-10-12 09:30:00+01:00achurchnearyou
CATEGORIES:
DESCRIPTION:Home made cakes and a great opportunity to chat and meet peopl
 e. Every second Monday of the month
LOCATION:Pebsham Community Hub
URL:https://www.achurchnearyou.com/church/4785/service-and-events/events/1
 245836/
END:VEVENT
BEGIN:VEVENT
SUMMARY:Community Coffee Morning at Pebsham Community Hub
DTSTART;TZID=Europe/London:20261109T093000
DTEND;TZID=Europe/London:20261109T103000
DTSTAMP:20260423T060140Z
UID:12458362026-11-09 09:30:00+00:00achurchnearyou
CATEGORIES:
DESCRIPTION:Home made cakes and a great opportunity to chat and meet peopl
 e. Every second Monday of the month
LOCATION:Pebsham Community Hub
URL:https://www.achurchnearyou.com/church/4785/service-and-events/events/1
 245836/
END:VEVENT
BEGIN:VEVENT
SUMMARY:Community Coffee Morning at Pebsham Community Hub
DTSTART;TZID=Europe/London:20261214T093000
DTEND;TZID=Europe/London:20261214T103000
DTSTAMP:20260423T060140Z
UID:12458362026-12-14 09:30:00+00:00achurchnearyou
CATEGORIES:
DESCRIPTION:Home made cakes and a great opportunity to chat and meet peopl
 e. Every second Monday of the month
LOCATION:Pebsham Community Hub
URL:https://www.achurchnearyou.com/church/4785/service-and-events/events/1
 245836/
END:VEVENT
BEGIN:VEVENT
SUMMARY:Community Coffee Morning at Pebsham Community Hub
DTSTART;TZID=Europe/London:20270111T093000
DTEND;TZID=Europe/London:20270111T103000
DTSTAMP:20260423T060140Z
UID:12458362027-01-11 09:30:00+00:00achurchnearyou
CATEGORIES:
DESCRIPTION:Home made cakes and a great opportunity to chat and meet peopl
 e. Every second Monday of the month
LOCATION:Pebsham Community Hub
URL:https://www.achurchnearyou.com/church/4785/service-and-events/events/1
 245836/
END:VEVENT
BEGIN:VEVENT
SUMMARY:Community Coffee Morning at Pebsham Community Hub
DTSTART;TZID=Europe/London:20270208T093000
DTEND;TZID=Europe/London:20270208T103000
DTSTAMP:20260423T060140Z
UID:12458362027-02-08 09:30:00+00:00achurchnearyou
CATEGORIES:
DESCRIPTION:Home made cakes and a great opportunity to chat and meet peopl
 e. Every second Monday of the month
LOCATION:Pebsham Community Hub
URL:https://www.achurchnearyou.com/church/4785/service-and-events/events/1
 245836/
END:VEVENT
BEGIN:VEVENT
SUMMARY:Community Coffee Morning at Pebsham Community Hub
DTSTART;TZID=Europe/London:20270308T093000
DTEND;TZID=Europe/London:20270308T103000
DTSTAMP:20260423T060140Z
UID:12458362027-03-08 09:30:00+00:00achurchnearyou
CATEGORIES:
DESCRIPTION:Home made cakes and a great opportunity to chat and meet peopl
 e. Every second Monday of the month
LOCATION:Pebsham Community Hub
URL:https://www.achurchnearyou.com/church/4785/service-and-events/events/1
 245836/
END:VEVENT
BEGIN:VEVENT
SUMMARY:Community Coffee Morning at Pebsham Community Hub
DTSTART;TZID=Europe/London:20270412T093000
DTEND;TZID=Europe/London:20270412T103000
DTSTAMP:20260423T060140Z
UID:12458362027-04-12 09:30:00+01:00achurchnearyou
CATEGORIES:
DESCRIPTION:Home made cakes and a great opportunity to chat and meet peopl
 e. Every second Monday of the month
LOCATION:Pebsham Community Hub
URL:https://www.achurchnearyou.com/church/4785/service-and-events/events/1
 245836/
END:VEVENT
END:VCALENDAR
