BEGIN:VCALENDAR
VERSION:2.0
PRODID:-//achurchnearyou.com//eventfeed//EN
CALSCALE:GREGORIAN
METHOD:PUBLISH
X-WR-TIMEZONE:UTC
BEGIN:VEVENT
SUMMARY:LENT REFLECTIONS - I Believe - exploring big themes from the Nicen
 e Creed
DTSTART;TZID=Europe/London:20250312T103000
DTEND;TZID=Europe/London:20250312T113000
DTSTAMP:20260425T042221Z
UID:11571962025-03-12 10:30:00+00:00achurchnearyou
CATEGORIES:
DESCRIPTION:For this year's Lent Reflections\, as we reflect on the Myster
 y of Faith\, we consider the Nicene Creed\, (the first part from the Counc
 il of Nicaea in 325AD\, the second from that of Constantinople in 381AD). 
 \n\nThere will be 5 sessions on consecutive Wednesdays in Lent\, taking pl
 ace in the Lady Chapel between 10.30am and 11.30am. You are then invited t
 o reflect and pray before joining us for Mass at 12.30pm. All are welcome.
 \n\nWEDNESDAY 12th MARCH - The first presentation\, on God as Father\, use
 s Julian of Norwich’s insights to help us contemplate God uniquely revea
 led in Jesus.\n\nWEDNESDAY 19th MARCH - The second presentation\, invites 
 us to discuss Jesus (called ‘light from light’ in the Creed) as the on
 e who moves us to limitless love through his death and resurrection. \n\nW
 EDNESDAY 26th MARCH - The Holy Spirit\, ‘Lord and Giver of life\,’ is 
 next considered as the giver of wisdom\, who teaches us attentiveness to G
 od.\n\nWEDNESDAY 2nd APRIL - Leading on from the revelation of the Holy Tr
 inity\, and following the Creed\, with the help of the writings of Bishop 
 George Bell\, we move to reflect on the Church\, the community of believer
 s born at the cross and made manifest at Pentecost.\n\nWEDNESDAY 9th APRIL
  - The final presentation looks at the life of the world to come as consid
 ered by Evelyn Underhill\, one of the most inspiring theologians and spiri
 tual writers of the 20th century.
GEO:-0.129752;50.820394
LOCATION:St Mary's\, Kemp Town
URL:https://www.achurchnearyou.com/church/4803/service-and-events/events/1
 157196/
END:VEVENT
BEGIN:VEVENT
SUMMARY:LENT REFLECTIONS - I Believe - exploring big themes from the Nicen
 e Creed
DTSTART;TZID=Europe/London:20250319T103000
DTEND;TZID=Europe/London:20250319T113000
DTSTAMP:20260425T042221Z
UID:11571962025-03-19 10:30:00+00:00achurchnearyou
CATEGORIES:
DESCRIPTION:For this year's Lent Reflections\, as we reflect on the Myster
 y of Faith\, we consider the Nicene Creed\, (the first part from the Counc
 il of Nicaea in 325AD\, the second from that of Constantinople in 381AD). 
 \n\nThere will be 5 sessions on consecutive Wednesdays in Lent\, taking pl
 ace in the Lady Chapel between 10.30am and 11.30am. You are then invited t
 o reflect and pray before joining us for Mass at 12.30pm. All are welcome.
 \n\nWEDNESDAY 12th MARCH - The first presentation\, on God as Father\, use
 s Julian of Norwich’s insights to help us contemplate God uniquely revea
 led in Jesus.\n\nWEDNESDAY 19th MARCH - The second presentation\, invites 
 us to discuss Jesus (called ‘light from light’ in the Creed) as the on
 e who moves us to limitless love through his death and resurrection. \n\nW
 EDNESDAY 26th MARCH - The Holy Spirit\, ‘Lord and Giver of life\,’ is 
 next considered as the giver of wisdom\, who teaches us attentiveness to G
 od.\n\nWEDNESDAY 2nd APRIL - Leading on from the revelation of the Holy Tr
 inity\, and following the Creed\, with the help of the writings of Bishop 
 George Bell\, we move to reflect on the Church\, the community of believer
 s born at the cross and made manifest at Pentecost.\n\nWEDNESDAY 9th APRIL
  - The final presentation looks at the life of the world to come as consid
 ered by Evelyn Underhill\, one of the most inspiring theologians and spiri
 tual writers of the 20th century.
GEO:-0.129752;50.820394
LOCATION:St Mary's\, Kemp Town
URL:https://www.achurchnearyou.com/church/4803/service-and-events/events/1
 157196/
END:VEVENT
BEGIN:VEVENT
SUMMARY:LENT REFLECTIONS - I Believe - exploring big themes from the Nicen
 e Creed
DTSTART;TZID=Europe/London:20250326T103000
DTEND;TZID=Europe/London:20250326T113000
DTSTAMP:20260425T042221Z
UID:11571962025-03-26 10:30:00+00:00achurchnearyou
CATEGORIES:
DESCRIPTION:For this year's Lent Reflections\, as we reflect on the Myster
 y of Faith\, we consider the Nicene Creed\, (the first part from the Counc
 il of Nicaea in 325AD\, the second from that of Constantinople in 381AD). 
 \n\nThere will be 5 sessions on consecutive Wednesdays in Lent\, taking pl
 ace in the Lady Chapel between 10.30am and 11.30am. You are then invited t
 o reflect and pray before joining us for Mass at 12.30pm. All are welcome.
 \n\nWEDNESDAY 12th MARCH - The first presentation\, on God as Father\, use
 s Julian of Norwich’s insights to help us contemplate God uniquely revea
 led in Jesus.\n\nWEDNESDAY 19th MARCH - The second presentation\, invites 
 us to discuss Jesus (called ‘light from light’ in the Creed) as the on
 e who moves us to limitless love through his death and resurrection. \n\nW
 EDNESDAY 26th MARCH - The Holy Spirit\, ‘Lord and Giver of life\,’ is 
 next considered as the giver of wisdom\, who teaches us attentiveness to G
 od.\n\nWEDNESDAY 2nd APRIL - Leading on from the revelation of the Holy Tr
 inity\, and following the Creed\, with the help of the writings of Bishop 
 George Bell\, we move to reflect on the Church\, the community of believer
 s born at the cross and made manifest at Pentecost.\n\nWEDNESDAY 9th APRIL
  - The final presentation looks at the life of the world to come as consid
 ered by Evelyn Underhill\, one of the most inspiring theologians and spiri
 tual writers of the 20th century.
GEO:-0.129752;50.820394
LOCATION:St Mary's\, Kemp Town
URL:https://www.achurchnearyou.com/church/4803/service-and-events/events/1
 157196/
END:VEVENT
BEGIN:VEVENT
SUMMARY:LENT REFLECTIONS - I Believe - exploring big themes from the Nicen
 e Creed
DTSTART;TZID=Europe/London:20250402T103000
DTEND;TZID=Europe/London:20250402T113000
DTSTAMP:20260425T042221Z
UID:11571962025-04-02 10:30:00+01:00achurchnearyou
CATEGORIES:
DESCRIPTION:For this year's Lent Reflections\, as we reflect on the Myster
 y of Faith\, we consider the Nicene Creed\, (the first part from the Counc
 il of Nicaea in 325AD\, the second from that of Constantinople in 381AD). 
 \n\nThere will be 5 sessions on consecutive Wednesdays in Lent\, taking pl
 ace in the Lady Chapel between 10.30am and 11.30am. You are then invited t
 o reflect and pray before joining us for Mass at 12.30pm. All are welcome.
 \n\nWEDNESDAY 12th MARCH - The first presentation\, on God as Father\, use
 s Julian of Norwich’s insights to help us contemplate God uniquely revea
 led in Jesus.\n\nWEDNESDAY 19th MARCH - The second presentation\, invites 
 us to discuss Jesus (called ‘light from light’ in the Creed) as the on
 e who moves us to limitless love through his death and resurrection. \n\nW
 EDNESDAY 26th MARCH - The Holy Spirit\, ‘Lord and Giver of life\,’ is 
 next considered as the giver of wisdom\, who teaches us attentiveness to G
 od.\n\nWEDNESDAY 2nd APRIL - Leading on from the revelation of the Holy Tr
 inity\, and following the Creed\, with the help of the writings of Bishop 
 George Bell\, we move to reflect on the Church\, the community of believer
 s born at the cross and made manifest at Pentecost.\n\nWEDNESDAY 9th APRIL
  - The final presentation looks at the life of the world to come as consid
 ered by Evelyn Underhill\, one of the most inspiring theologians and spiri
 tual writers of the 20th century.
GEO:-0.129752;50.820394
LOCATION:St Mary's\, Kemp Town
URL:https://www.achurchnearyou.com/church/4803/service-and-events/events/1
 157196/
END:VEVENT
BEGIN:VEVENT
SUMMARY:LENT REFLECTIONS - I Believe - exploring big themes from the Nicen
 e Creed
DTSTART;TZID=Europe/London:20250409T103000
DTEND;TZID=Europe/London:20250409T113000
DTSTAMP:20260425T042221Z
UID:11571962025-04-09 10:30:00+01:00achurchnearyou
CATEGORIES:
DESCRIPTION:For this year's Lent Reflections\, as we reflect on the Myster
 y of Faith\, we consider the Nicene Creed\, (the first part from the Counc
 il of Nicaea in 325AD\, the second from that of Constantinople in 381AD). 
 \n\nThere will be 5 sessions on consecutive Wednesdays in Lent\, taking pl
 ace in the Lady Chapel between 10.30am and 11.30am. You are then invited t
 o reflect and pray before joining us for Mass at 12.30pm. All are welcome.
 \n\nWEDNESDAY 12th MARCH - The first presentation\, on God as Father\, use
 s Julian of Norwich’s insights to help us contemplate God uniquely revea
 led in Jesus.\n\nWEDNESDAY 19th MARCH - The second presentation\, invites 
 us to discuss Jesus (called ‘light from light’ in the Creed) as the on
 e who moves us to limitless love through his death and resurrection. \n\nW
 EDNESDAY 26th MARCH - The Holy Spirit\, ‘Lord and Giver of life\,’ is 
 next considered as the giver of wisdom\, who teaches us attentiveness to G
 od.\n\nWEDNESDAY 2nd APRIL - Leading on from the revelation of the Holy Tr
 inity\, and following the Creed\, with the help of the writings of Bishop 
 George Bell\, we move to reflect on the Church\, the community of believer
 s born at the cross and made manifest at Pentecost.\n\nWEDNESDAY 9th APRIL
  - The final presentation looks at the life of the world to come as consid
 ered by Evelyn Underhill\, one of the most inspiring theologians and spiri
 tual writers of the 20th century.
GEO:-0.129752;50.820394
LOCATION:St Mary's\, Kemp Town
URL:https://www.achurchnearyou.com/church/4803/service-and-events/events/1
 157196/
END:VEVENT
END:VCALENDAR
