BEGIN:VCALENDAR
VERSION:2.0
PRODID:-//achurchnearyou.com//eventfeed//EN
CALSCALE:GREGORIAN
METHOD:PUBLISH
X-WR-TIMEZONE:UTC
BEGIN:VEVENT
SUMMARY:Maundy Thursday Mass
DTSTART:20260402T180000Z
DTEND:20260402T190000Z
DTSTAMP:20260424T001555Z
UID:13091342026-04-02 18:00:00+00:00achurchnearyou
CATEGORIES:
DESCRIPTION:Mass of the Last Supper followed by a Vigil
GEO:-0.139743;50.82241
LOCATION:The Chapel Royal
URL:https://www.achurchnearyou.com/church/4804/service-and-events/events/1
 309134/
END:VEVENT
END:VCALENDAR
