BEGIN:VCALENDAR
VERSION:2.0
PRODID:-//achurchnearyou.com//eventfeed//EN
CALSCALE:GREGORIAN
METHOD:PUBLISH
X-WR-TIMEZONE:UTC
BEGIN:VEVENT
SUMMARY:Advent Study Course
DTSTART;TZID=Europe/London:20251204T110000
DTEND;TZID=Europe/London:20251204T114500
DTSTAMP:20260424T071030Z
UID:12475692025-12-04 11:00:00+00:00achurchnearyou
CATEGORIES:
DESCRIPTION:Advent Study Course followed by 12 noon mass
GEO:-0.1372;50.830911
LOCATION:St Bartholomew's\, Brighton
URL:https://www.achurchnearyou.com/church/4807/service-and-events/events/1
 247569/
END:VEVENT
BEGIN:VEVENT
SUMMARY:Advent Study Course
DTSTART;TZID=Europe/London:20251211T110000
DTEND;TZID=Europe/London:20251211T114500
DTSTAMP:20260424T071030Z
UID:12475692025-12-11 11:00:00+00:00achurchnearyou
CATEGORIES:
DESCRIPTION:Advent Study Course followed by 12 noon mass
GEO:-0.1372;50.830911
LOCATION:St Bartholomew's\, Brighton
URL:https://www.achurchnearyou.com/church/4807/service-and-events/events/1
 247569/
END:VEVENT
BEGIN:VEVENT
SUMMARY:Advent Study Course
DTSTART;TZID=Europe/London:20251218T110000
DTEND;TZID=Europe/London:20251218T114500
DTSTAMP:20260424T071030Z
UID:12475692025-12-18 11:00:00+00:00achurchnearyou
CATEGORIES:
DESCRIPTION:Advent Study Course followed by 12 noon mass
GEO:-0.1372;50.830911
LOCATION:St Bartholomew's\, Brighton
URL:https://www.achurchnearyou.com/church/4807/service-and-events/events/1
 247569/
END:VEVENT
END:VCALENDAR
