BEGIN:VCALENDAR
VERSION:2.0
PRODID:-//achurchnearyou.com//eventfeed//EN
CALSCALE:GREGORIAN
METHOD:PUBLISH
X-WR-TIMEZONE:UTC
BEGIN:VEVENT
SUMMARY:Said Mass
DTSTART:20251112T173000Z
DTEND:20251112T180000Z
DTSTAMP:20260422T135525Z
UID:12459032025-11-12 17:30:00+00:00achurchnearyou
CATEGORIES:
DESCRIPTION:S Josaphat
GEO:-0.128723;50.833384
LOCATION:St Martin with S.Wilfrid & S.Alban
URL:https://www.achurchnearyou.com/church/4810/service-and-events/events/1
 245903/
END:VEVENT
END:VCALENDAR
