BEGIN:VCALENDAR
VERSION:2.0
PRODID:-//achurchnearyou.com//eventfeed//EN
CALSCALE:GREGORIAN
METHOD:PUBLISH
X-WR-TIMEZONE:UTC
BEGIN:VEVENT
SUMMARY:Said Mass Holy Monday
DTSTART:20260330T163000Z
DTEND:20260330T170000Z
DTSTAMP:20260420T025823Z
UID:13201282026-03-30 16:30:00+00:00achurchnearyou
CATEGORIES:
DESCRIPTION:Holy Monday
GEO:-0.128723;50.833384
LOCATION:St Martin with S.Wilfrid & S.Alban
URL:https://www.achurchnearyou.com/church/4810/service-and-events/events/1
 320128/
END:VEVENT
END:VCALENDAR
