BEGIN:VCALENDAR
VERSION:2.0
PRODID:-//achurchnearyou.com//eventfeed//EN
CALSCALE:GREGORIAN
METHOD:PUBLISH
X-WR-TIMEZONE:UTC
BEGIN:VEVENT
SUMMARY:Children's Crib Service
DTSTART:20251224T160000Z
DTEND:20251224T170000Z
DTSTAMP:20260422T173536Z
UID:12681832025-12-24 16:00:00+00:00achurchnearyou
CATEGORIES:
DESCRIPTION:A short interactive service with carols in which we tell the c
 hristmas story. Aimed at primary school children but all are welcome.
GEO:-0.149831;50.827514
LOCATION:St Michael & All Angels
URL:https://www.achurchnearyou.com/church/4811/service-and-events/events/1
 268183/
END:VEVENT
END:VCALENDAR
