BEGIN:VCALENDAR
VERSION:2.0
PRODID:-//achurchnearyou.com//eventfeed//EN
CALSCALE:GREGORIAN
METHOD:PUBLISH
X-WR-TIMEZONE:UTC
BEGIN:VEVENT
SUMMARY:Holy Monday
DTSTART:20260330T110000Z
DTEND:20260330T113000Z
DTSTAMP:20260420T072643Z
UID:13159842026-03-30 11:00:00+00:00achurchnearyou
CATEGORIES:
DESCRIPTION:Said Mass at 12 Noon.
GEO:-0.129591;50.82944
LOCATION:The Annunciation
URL:https://www.achurchnearyou.com/church/4815/service-and-events/events/1
 315984/
END:VEVENT
END:VCALENDAR
