BEGIN:VCALENDAR
VERSION:2.0
PRODID:-//achurchnearyou.com//eventfeed//EN
CALSCALE:GREGORIAN
METHOD:PUBLISH
X-WR-TIMEZONE:UTC
BEGIN:VEVENT
SUMMARY:Easter Celebration Service
DTSTART;TZID=Europe/London:20260405T100000
DTEND;TZID=Europe/London:20260405T113000
DTSTAMP:20260423T100425Z
UID:13216002026-04-05 10:00:00+01:00achurchnearyou
CATEGORIES:
DESCRIPTION:A contemporary all-age service. Buncton chapel is currently cl
 osed due to falling plasterwork and vandalism.\nThe service will be at St 
 Mary's Wiston.
GEO:-0.372621;50.913302
LOCATION:Wiston with Buncton
URL:https://www.achurchnearyou.com/church/4820/service-and-events/events/1
 321600/
END:VEVENT
END:VCALENDAR
