BEGIN:VCALENDAR
VERSION:2.0
PRODID:-//achurchnearyou.com//eventfeed//EN
CALSCALE:GREGORIAN
METHOD:PUBLISH
X-WR-TIMEZONE:UTC
BEGIN:VEVENT
SUMMARY:Good Friday Garden Service
DTSTART:20250418T093000Z
DTEND:20250418T103000Z
DTSTAMP:20260424T163508Z
UID:11683392025-04-18 09:30:00+00:00achurchnearyou
CATEGORIES:
DESCRIPTION:Outdoor service meeting around a fire pit. We'll tell the East
 er story with crafts and activities. Hot cross buns and marshmallows. Suit
 able for all ages. If it's wet we'll go inside.
GEO:-0.148538;50.960597
LOCATION:St Edward's Church
URL:https://www.achurchnearyou.com/church/4822/service-and-events/events/1
 168339/
END:VEVENT
END:VCALENDAR
