BEGIN:VCALENDAR
VERSION:2.0
PRODID:-//achurchnearyou.com//eventfeed//EN
CALSCALE:GREGORIAN
METHOD:PUBLISH
X-WR-TIMEZONE:UTC
BEGIN:VEVENT
SUMMARY:Carol Service
DTSTART:20251221T180000Z
DTEND:20251221T193000Z
DTSTAMP:20260419T202919Z
UID:12733512025-12-21 18:00:00+00:00achurchnearyou
CATEGORIES:
DESCRIPTION:Carol Service at Earnley Church
GEO:-0.844137;50.766039
LOCATION:Earnley Church
URL:https://www.achurchnearyou.com/church/4874/service-and-events/events/1
 273351/
END:VEVENT
END:VCALENDAR
