BEGIN:VCALENDAR
VERSION:2.0
PRODID:-//achurchnearyou.com//eventfeed//EN
CALSCALE:GREGORIAN
METHOD:PUBLISH
X-WR-TIMEZONE:UTC
BEGIN:VEVENT
SUMMARY:Book of Common Prayer Antecommunion
DTSTART:20260404T090000Z
DTEND:20260404T093000Z
DTSTAMP:20260423T145734Z
UID:13065632026-04-04 09:00:00+00:00achurchnearyou
CATEGORIES:
DESCRIPTION:A quiet said service - Book of Common Prayer Antecommunion.
LOCATION:St. Andrew's
URL:https://www.achurchnearyou.com/church/4895/service-and-events/events/1
 306563/
END:VEVENT
END:VCALENDAR
