BEGIN:VCALENDAR
VERSION:2.0
PRODID:-//achurchnearyou.com//eventfeed//EN
CALSCALE:GREGORIAN
METHOD:PUBLISH
X-WR-TIMEZONE:UTC
BEGIN:VEVENT
SUMMARY:Choral Evensong
DTSTART:20260426T153000Z
DTEND:20260426T163000Z
DTSTAMP:20260423T035331Z
UID:13258202026-04-26 15:30:00+00:00achurchnearyou
CATEGORIES:
DESCRIPTION:Join us for Choral Evensong and benediction to celebrate St. G
 eorge.
GEO:0.304565;50.783388
LOCATION:St. Andrew's
URL:https://www.achurchnearyou.com/church/4895/service-and-events/events/1
 325820/
END:VEVENT
END:VCALENDAR
