BEGIN:VCALENDAR
VERSION:2.0
PRODID:-//achurchnearyou.com//eventfeed//EN
CALSCALE:GREGORIAN
METHOD:PUBLISH
X-WR-TIMEZONE:UTC
BEGIN:VEVENT
SUMMARY:Christmas Tree Festival
DTSTART;TZID=Europe/London:20251204T100000
DTEND;TZID=Europe/London:20251204T170000
DTSTAMP:20260424T014438Z
UID:4015962025-12-04 10:00:00+00:00achurchnearyou
CATEGORIES:
DESCRIPTION:Lots of Christmas trees decorated on the the theme of films (s
 ee poster for opening times over the weekend). Come along and see the tree
 s decorated to represent this topic. Refreshments available all day\, Raff
 le\, Craft Stall and Angel Trail. Entrance £1.50 (children free).\n\nRobi
 nson Academy of Dance\n\nSt. Andrew's Church of England Infant School Choi
 r will be performing on the Friday.\n\nTBC Saturday will be PUGs - Pevense
 y Ukulele Group.\n\nThe Festival ends with a Carol Service on the Sunday a
 t 5pm\, lit by the Tree Lights
GEO:0.304565;50.783388
LOCATION:St. Andrew's
URL:https://www.achurchnearyou.com/church/4895/service-and-events/events/4
 01596/
END:VEVENT
BEGIN:VEVENT
SUMMARY:Christmas Tree Festival
DTSTART;TZID=Europe/London:20251205T100000
DTEND;TZID=Europe/London:20251205T170000
DTSTAMP:20260424T014438Z
UID:4015962025-12-05 10:00:00+00:00achurchnearyou
CATEGORIES:
DESCRIPTION:Lots of Christmas trees decorated on the the theme of films (s
 ee poster for opening times over the weekend). Come along and see the tree
 s decorated to represent this topic. Refreshments available all day\, Raff
 le\, Craft Stall and Angel Trail. Entrance £1.50 (children free).\n\nRobi
 nson Academy of Dance\n\nSt. Andrew's Church of England Infant School Choi
 r will be performing on the Friday.\n\nTBC Saturday will be PUGs - Pevense
 y Ukulele Group.\n\nThe Festival ends with a Carol Service on the Sunday a
 t 5pm\, lit by the Tree Lights
GEO:0.304565;50.783388
LOCATION:St. Andrew's
URL:https://www.achurchnearyou.com/church/4895/service-and-events/events/4
 01596/
END:VEVENT
BEGIN:VEVENT
SUMMARY:Christmas Tree Festival
DTSTART;TZID=Europe/London:20251206T100000
DTEND;TZID=Europe/London:20251206T170000
DTSTAMP:20260424T014438Z
UID:4015962025-12-06 10:00:00+00:00achurchnearyou
CATEGORIES:
DESCRIPTION:Lots of Christmas trees decorated on the the theme of films (s
 ee poster for opening times over the weekend). Come along and see the tree
 s decorated to represent this topic. Refreshments available all day\, Raff
 le\, Craft Stall and Angel Trail. Entrance £1.50 (children free).\n\nRobi
 nson Academy of Dance\n\nSt. Andrew's Church of England Infant School Choi
 r will be performing on the Friday.\n\nTBC Saturday will be PUGs - Pevense
 y Ukulele Group.\n\nThe Festival ends with a Carol Service on the Sunday a
 t 5pm\, lit by the Tree Lights
GEO:0.304565;50.783388
LOCATION:St. Andrew's
URL:https://www.achurchnearyou.com/church/4895/service-and-events/events/4
 01596/
END:VEVENT
END:VCALENDAR
