BEGIN:VCALENDAR
VERSION:2.0
PRODID:-//achurchnearyou.com//eventfeed//EN
CALSCALE:GREGORIAN
METHOD:PUBLISH
X-WR-TIMEZONE:UTC
BEGIN:VEVENT
SUMMARY:Toy Sunday
DTSTART:20251130T093000Z
DTEND:20251130T103000Z
DTSTAMP:20260423T223634Z
UID:8745252025-11-30 09:30:00+00:00achurchnearyou
CATEGORIES:
DESCRIPTION:As we look towards Advent and prepare for Christmas\, we are h
 osting Toy Sunday\, as part of our Sunday Worship. This is the opportunity
  to bring along a new unwrapped Toy or Gift for a child or adult. These wi
 ll be distributed locally through Family Support Work to families in need.
 \nFrom FSW ...\nAt present in Eastbourne we do not have many younger child
 ren\, but please don't forget older children and perhaps buy a gift token 
 for them to spend..\nWe are very grateful for all your contributions..\nPl
 ease also consider a gift suitable for a Mum or Dad\,\nas well as wrapping
  paper..\nPlease see the attachment here for more on festive food donation
 s\, which can also be left in the blue box in church
GEO:0.304565;50.783388
LOCATION:St. Andrew's
URL:https://www.achurchnearyou.com/church/4895/service-and-events/events/8
 74525/
END:VEVENT
END:VCALENDAR
