BEGIN:VCALENDAR
VERSION:2.0
PRODID:-//achurchnearyou.com//eventfeed//EN
CALSCALE:GREGORIAN
METHOD:PUBLISH
X-WR-TIMEZONE:UTC
BEGIN:VEVENT
SUMMARY:Maundy Thursday
DTSTART:20260402T183000Z
DTEND:20260402T193000Z
DTSTAMP:20260423T120135Z
UID:9159752026-04-02 18:30:00+00:00achurchnearyou
CATEGORIES:
DESCRIPTION:Join us for Mass as we remember the events of the Last Supper.
   The service will be followed by a Watch at the Altar of Repose.
GEO:0.304565;50.783388
LOCATION:St. Andrew's
URL:https://www.achurchnearyou.com/church/4895/service-and-events/events/9
 15975/
END:VEVENT
END:VCALENDAR
