BEGIN:VCALENDAR
VERSION:2.0
PRODID:-//achurchnearyou.com//eventfeed//EN
CALSCALE:GREGORIAN
METHOD:PUBLISH
X-WR-TIMEZONE:UTC
BEGIN:VEVENT
SUMMARY:Palm Sunday
DTSTART:20260329T073000Z
DTEND:20260329T080000Z
DTSTAMP:20260424T215439Z
UID:11686902026-03-29 07:30:00+00:00achurchnearyou
CATEGORIES:
DESCRIPTION:BCP Communion\, with blessing of palms.
LOCATION:St George\, Eastergate
URL:https://www.achurchnearyou.com/church/4903/service-and-events/events/1
 168690/
END:VEVENT
END:VCALENDAR
