BEGIN:VCALENDAR
VERSION:2.0
PRODID:-//achurchnearyou.com//eventfeed//EN
CALSCALE:GREGORIAN
METHOD:PUBLISH
X-WR-TIMEZONE:UTC
BEGIN:VEVENT
SUMMARY:Holy Communion of the Resurrection
DTSTART:20260405T090000Z
DTEND:20260405T100000Z
DTSTAMP:20260424T232125Z
UID:5527452026-04-05 09:00:00+00:00achurchnearyou
CATEGORIES:
DESCRIPTION:Celebrate Easter with us!
GEO:-0.65905;50.837609
LOCATION:St George\, Eastergate
URL:https://www.achurchnearyou.com/church/4903/service-and-events/events/5
 52745/
END:VEVENT
END:VCALENDAR
