BEGIN:VCALENDAR
VERSION:2.0
PRODID:-//achurchnearyou.com//eventfeed//EN
CALSCALE:GREGORIAN
METHOD:PUBLISH
X-WR-TIMEZONE:UTC
BEGIN:VEVENT
SUMMARY:Parish Communion
DTSTART;TZID=Europe/London:20260419T090000
DTEND;TZID=Europe/London:20260419T094000
DTSTAMP:20260419T163453Z
UID:3376292026-04-19 09:00:00+01:00achurchnearyou
CATEGORIES:
DESCRIPTION:BCP Said Communion
GEO:-0.582095;50.971699
LOCATION:St Bartholomew's Church\, Egdean
URL:https://www.achurchnearyou.com/church/4906/service-and-events/events/3
 37629/
END:VEVENT
BEGIN:VEVENT
SUMMARY:Parish Communion
DTSTART;TZID=Europe/London:20260517T090000
DTEND;TZID=Europe/London:20260517T094000
DTSTAMP:20260419T163453Z
UID:3376292026-05-17 09:00:00+01:00achurchnearyou
CATEGORIES:
DESCRIPTION:BCP Said Communion
GEO:-0.582095;50.971699
LOCATION:St Bartholomew's Church\, Egdean
URL:https://www.achurchnearyou.com/church/4906/service-and-events/events/3
 37629/
END:VEVENT
BEGIN:VEVENT
SUMMARY:Parish Communion
DTSTART;TZID=Europe/London:20260621T090000
DTEND;TZID=Europe/London:20260621T094000
DTSTAMP:20260419T163453Z
UID:3376292026-06-21 09:00:00+01:00achurchnearyou
CATEGORIES:
DESCRIPTION:BCP Said Communion
GEO:-0.582095;50.971699
LOCATION:St Bartholomew's Church\, Egdean
URL:https://www.achurchnearyou.com/church/4906/service-and-events/events/3
 37629/
END:VEVENT
BEGIN:VEVENT
SUMMARY:Parish Communion
DTSTART;TZID=Europe/London:20260719T090000
DTEND;TZID=Europe/London:20260719T094000
DTSTAMP:20260419T163453Z
UID:3376292026-07-19 09:00:00+01:00achurchnearyou
CATEGORIES:
DESCRIPTION:BCP Said Communion
GEO:-0.582095;50.971699
LOCATION:St Bartholomew's Church\, Egdean
URL:https://www.achurchnearyou.com/church/4906/service-and-events/events/3
 37629/
END:VEVENT
BEGIN:VEVENT
SUMMARY:Parish Communion
DTSTART;TZID=Europe/London:20260816T090000
DTEND;TZID=Europe/London:20260816T094000
DTSTAMP:20260419T163453Z
UID:3376292026-08-16 09:00:00+01:00achurchnearyou
CATEGORIES:
DESCRIPTION:BCP Said Communion
GEO:-0.582095;50.971699
LOCATION:St Bartholomew's Church\, Egdean
URL:https://www.achurchnearyou.com/church/4906/service-and-events/events/3
 37629/
END:VEVENT
BEGIN:VEVENT
SUMMARY:Parish Communion
DTSTART;TZID=Europe/London:20260920T090000
DTEND;TZID=Europe/London:20260920T094000
DTSTAMP:20260419T163453Z
UID:3376292026-09-20 09:00:00+01:00achurchnearyou
CATEGORIES:
DESCRIPTION:BCP Said Communion
GEO:-0.582095;50.971699
LOCATION:St Bartholomew's Church\, Egdean
URL:https://www.achurchnearyou.com/church/4906/service-and-events/events/3
 37629/
END:VEVENT
BEGIN:VEVENT
SUMMARY:Parish Communion
DTSTART;TZID=Europe/London:20261018T090000
DTEND;TZID=Europe/London:20261018T094000
DTSTAMP:20260419T163453Z
UID:3376292026-10-18 09:00:00+01:00achurchnearyou
CATEGORIES:
DESCRIPTION:BCP Said Communion
GEO:-0.582095;50.971699
LOCATION:St Bartholomew's Church\, Egdean
URL:https://www.achurchnearyou.com/church/4906/service-and-events/events/3
 37629/
END:VEVENT
BEGIN:VEVENT
SUMMARY:Parish Communion
DTSTART;TZID=Europe/London:20261115T090000
DTEND;TZID=Europe/London:20261115T094000
DTSTAMP:20260419T163453Z
UID:3376292026-11-15 09:00:00+00:00achurchnearyou
CATEGORIES:
DESCRIPTION:BCP Said Communion
GEO:-0.582095;50.971699
LOCATION:St Bartholomew's Church\, Egdean
URL:https://www.achurchnearyou.com/church/4906/service-and-events/events/3
 37629/
END:VEVENT
BEGIN:VEVENT
SUMMARY:Parish Communion
DTSTART;TZID=Europe/London:20261220T090000
DTEND;TZID=Europe/London:20261220T094000
DTSTAMP:20260419T163453Z
UID:3376292026-12-20 09:00:00+00:00achurchnearyou
CATEGORIES:
DESCRIPTION:BCP Said Communion
GEO:-0.582095;50.971699
LOCATION:St Bartholomew's Church\, Egdean
URL:https://www.achurchnearyou.com/church/4906/service-and-events/events/3
 37629/
END:VEVENT
BEGIN:VEVENT
SUMMARY:Parish Communion
DTSTART;TZID=Europe/London:20270117T090000
DTEND;TZID=Europe/London:20270117T094000
DTSTAMP:20260419T163453Z
UID:3376292027-01-17 09:00:00+00:00achurchnearyou
CATEGORIES:
DESCRIPTION:BCP Said Communion
GEO:-0.582095;50.971699
LOCATION:St Bartholomew's Church\, Egdean
URL:https://www.achurchnearyou.com/church/4906/service-and-events/events/3
 37629/
END:VEVENT
BEGIN:VEVENT
SUMMARY:Parish Communion
DTSTART;TZID=Europe/London:20270221T090000
DTEND;TZID=Europe/London:20270221T094000
DTSTAMP:20260419T163453Z
UID:3376292027-02-21 09:00:00+00:00achurchnearyou
CATEGORIES:
DESCRIPTION:BCP Said Communion
GEO:-0.582095;50.971699
LOCATION:St Bartholomew's Church\, Egdean
URL:https://www.achurchnearyou.com/church/4906/service-and-events/events/3
 37629/
END:VEVENT
BEGIN:VEVENT
SUMMARY:Parish Communion
DTSTART;TZID=Europe/London:20270321T090000
DTEND;TZID=Europe/London:20270321T094000
DTSTAMP:20260419T163453Z
UID:3376292027-03-21 09:00:00+00:00achurchnearyou
CATEGORIES:
DESCRIPTION:BCP Said Communion
GEO:-0.582095;50.971699
LOCATION:St Bartholomew's Church\, Egdean
URL:https://www.achurchnearyou.com/church/4906/service-and-events/events/3
 37629/
END:VEVENT
BEGIN:VEVENT
SUMMARY:Parish Communion
DTSTART;TZID=Europe/London:20270418T090000
DTEND;TZID=Europe/London:20270418T094000
DTSTAMP:20260419T163453Z
UID:3376292027-04-18 09:00:00+01:00achurchnearyou
CATEGORIES:
DESCRIPTION:BCP Said Communion
GEO:-0.582095;50.971699
LOCATION:St Bartholomew's Church\, Egdean
URL:https://www.achurchnearyou.com/church/4906/service-and-events/events/3
 37629/
END:VEVENT
END:VCALENDAR
