BEGIN:VCALENDAR
VERSION:2.0
PRODID:-//achurchnearyou.com//eventfeed//EN
CALSCALE:GREGORIAN
METHOD:PUBLISH
X-WR-TIMEZONE:UTC
BEGIN:VEVENT
SUMMARY:Christmas Carol Service
DTSTART:20251213T180000Z
DTEND:20251213T190000Z
DTSTAMP:20260422T015451Z
UID:12534702025-12-13 18:00:00+00:00achurchnearyou
CATEGORIES:
DESCRIPTION:A service for all ages\, to celebrate the birth of Jesus and t
 he Christmas season\, supported by the Ewhurst Green 'Occasional Choir'.  
 The service will be followed by Cheese & Wine / refreshments.
GEO:0.557288;50.992513
LOCATION:St James the Great
URL:https://www.achurchnearyou.com/church/4910/service-and-events/events/1
 253470/
END:VEVENT
END:VCALENDAR
