BEGIN:VCALENDAR
VERSION:2.0
PRODID:-//achurchnearyou.com//eventfeed//EN
CALSCALE:GREGORIAN
METHOD:PUBLISH
X-WR-TIMEZONE:UTC
BEGIN:VEVENT
SUMMARY:JOINT PARISH HOLY COMMUNION AT ST JOHN'S WESTFIELD
DTSTART:20250831T093000Z
DTEND:20250831T103000Z
DTSTAMP:20260425T042441Z
UID:12134712025-08-31 09:30:00+00:00achurchnearyou
CATEGORIES:
DESCRIPTION:JOINT PARISH HOLY COMMUNION AT ST JOHN'S WESTFIELD.   Bring a 
 chair/rug and a picnic for lunch together in the churchyard after the serv
 ice.
LOCATION:St John's church Westfield
URL:https://www.achurchnearyou.com/church/4911/service-and-events/events/1
 213471/
END:VEVENT
END:VCALENDAR
