BEGIN:VCALENDAR
VERSION:2.0
PRODID:-//achurchnearyou.com//eventfeed//EN
CALSCALE:GREGORIAN
METHOD:PUBLISH
X-WR-TIMEZONE:UTC
BEGIN:VEVENT
SUMMARY:Dedication Festival
DTSTART:20260215T094500Z
DTEND:20260215T104500Z
DTSTAMP:20260423T104201Z
UID:12885242026-02-15 09:45:00+00:00achurchnearyou
CATEGORIES:
DESCRIPTION:This Sunday morning service has a special focus on thanking Go
 d for our church building and for our community. We welcome special guests
 : High Sheriff of West Sussex Dr Tim Fooks\; local Councillor Esther Barro
 tt\; and Brad Deysel\, chaplain at Holy Trinity School.\nAfter the service
  our new access ramp will be formally opened and blessed. Tea\, coffee and
  cake will then be enjoyed!
GEO:-0.217691;51.110688
LOCATION:St Alban's
URL:https://www.achurchnearyou.com/church/4937/service-and-events/events/1
 288524/
END:VEVENT
END:VCALENDAR
