BEGIN:VCALENDAR
VERSION:2.0
PRODID:-//achurchnearyou.com//eventfeed//EN
CALSCALE:GREGORIAN
METHOD:PUBLISH
X-WR-TIMEZONE:UTC
BEGIN:VEVENT
SUMMARY:HOLY COMMUNION - MAUNDY THURSDAY
DTSTART:20250417T100000Z
DTEND:20250417T110000Z
DTSTAMP:20260424T164103Z
UID:11807792025-04-17 10:00:00+00:00achurchnearyou
CATEGORIES:
DESCRIPTION:Christian holy day that commemorates events known as the Washi
 ng of the Feet and the Last Supper. This day is part of the Holy Week lead
 ing up to Easter.
GEO:0.637365;50.899959
LOCATION:Guestling\, St Laurence
URL:https://www.achurchnearyou.com/church/4940/service-and-events/events/1
 180779/
END:VEVENT
END:VCALENDAR
