BEGIN:VCALENDAR
VERSION:2.0
PRODID:-//achurchnearyou.com//eventfeed//EN
CALSCALE:GREGORIAN
METHOD:PUBLISH
X-WR-TIMEZONE:UTC
BEGIN:VEVENT
SUMMARY:Holy Week Contemplative Eucharist
DTSTART:20260331T170000Z
DTEND:20260331T174500Z
DTSTAMP:20260426T051350Z
UID:13199802026-03-31 17:00:00+00:00achurchnearyou
CATEGORIES:
DESCRIPTION:Holy Week is the most sacred time in the Christian calendar\, 
 a journey that invites us to walk alongside Jesus through his final days\,
  from his triumphant entry into Jerusalem to the joy of his resurrection o
 n Easter Sunday.\nThroughout Holy Week\, we invite you to join us in worsh
 ip as we remember\, reflect\, and rejoice together.
GEO:0.271105;50.796675
LOCATION:St Mary\, Hampden Park
URL:https://www.achurchnearyou.com/church/4944/service-and-events/events/1
 319980/
END:VEVENT
END:VCALENDAR
