BEGIN:VCALENDAR
VERSION:2.0
PRODID:-//achurchnearyou.com//eventfeed//EN
CALSCALE:GREGORIAN
METHOD:PUBLISH
X-WR-TIMEZONE:UTC
BEGIN:VEVENT
SUMMARY:Christmas Day Service
DTSTART:20251225T100000Z
DTEND:20251225T113000Z
DTSTAMP:20260422T021450Z
UID:12453612025-12-25 10:00:00+00:00achurchnearyou
CATEGORIES:
DESCRIPTION:It’s Christmas Morning - let’s celebrate together the gift
  of Jesus!
GEO:0.551343;50.878866
LOCATION:St John the Evangelist\, Hollington
URL:https://www.achurchnearyou.com/church/4977/service-and-events/events/1
 245361/
END:VEVENT
END:VCALENDAR
