BEGIN:VCALENDAR
VERSION:2.0
PRODID:-//achurchnearyou.com//eventfeed//EN
CALSCALE:GREGORIAN
METHOD:PUBLISH
X-WR-TIMEZONE:UTC
BEGIN:VEVENT
SUMMARY:Alpha Course
DTSTART;TZID=Europe/London:20250114T183000
DTEND;TZID=Europe/London:20250114T200000
DTSTAMP:20260425T002455Z
UID:11474732025-01-14 18:30:00+00:00achurchnearyou
CATEGORIES:
DESCRIPTION:Curious about faith?\nIn conjunction with 3 Counties Church\, 
 we are delighted to offer an Alpha course for 2025\nThe course offers chan
 ce for those exploring what faith means to them  to do so with others in a
  safe and fun way. \nDinner is included!\n\nContact us:  alpha@midhurstpar
 ishchurch.net
GEO:-0.73753;50.985893
LOCATION:Midhurst Parish Church
URL:https://www.achurchnearyou.com/church/5052/service-and-events/events/1
 147473/
END:VEVENT
BEGIN:VEVENT
SUMMARY:Alpha Course
DTSTART;TZID=Europe/London:20250121T183000
DTEND;TZID=Europe/London:20250121T200000
DTSTAMP:20260425T002455Z
UID:11474732025-01-21 18:30:00+00:00achurchnearyou
CATEGORIES:
DESCRIPTION:Curious about faith?\nIn conjunction with 3 Counties Church\, 
 we are delighted to offer an Alpha course for 2025\nThe course offers chan
 ce for those exploring what faith means to them  to do so with others in a
  safe and fun way. \nDinner is included!\n\nContact us:  alpha@midhurstpar
 ishchurch.net
GEO:-0.73753;50.985893
LOCATION:Midhurst Parish Church
URL:https://www.achurchnearyou.com/church/5052/service-and-events/events/1
 147473/
END:VEVENT
BEGIN:VEVENT
SUMMARY:Alpha Course
DTSTART;TZID=Europe/London:20250128T183000
DTEND;TZID=Europe/London:20250128T200000
DTSTAMP:20260425T002455Z
UID:11474732025-01-28 18:30:00+00:00achurchnearyou
CATEGORIES:
DESCRIPTION:Curious about faith?\nIn conjunction with 3 Counties Church\, 
 we are delighted to offer an Alpha course for 2025\nThe course offers chan
 ce for those exploring what faith means to them  to do so with others in a
  safe and fun way. \nDinner is included!\n\nContact us:  alpha@midhurstpar
 ishchurch.net
GEO:-0.73753;50.985893
LOCATION:Midhurst Parish Church
URL:https://www.achurchnearyou.com/church/5052/service-and-events/events/1
 147473/
END:VEVENT
BEGIN:VEVENT
SUMMARY:Alpha Course
DTSTART;TZID=Europe/London:20250204T183000
DTEND;TZID=Europe/London:20250204T200000
DTSTAMP:20260425T002455Z
UID:11474732025-02-04 18:30:00+00:00achurchnearyou
CATEGORIES:
DESCRIPTION:Curious about faith?\nIn conjunction with 3 Counties Church\, 
 we are delighted to offer an Alpha course for 2025\nThe course offers chan
 ce for those exploring what faith means to them  to do so with others in a
  safe and fun way. \nDinner is included!\n\nContact us:  alpha@midhurstpar
 ishchurch.net
GEO:-0.73753;50.985893
LOCATION:Midhurst Parish Church
URL:https://www.achurchnearyou.com/church/5052/service-and-events/events/1
 147473/
END:VEVENT
BEGIN:VEVENT
SUMMARY:Alpha Course
DTSTART;TZID=Europe/London:20250211T183000
DTEND;TZID=Europe/London:20250211T200000
DTSTAMP:20260425T002455Z
UID:11474732025-02-11 18:30:00+00:00achurchnearyou
CATEGORIES:
DESCRIPTION:Curious about faith?\nIn conjunction with 3 Counties Church\, 
 we are delighted to offer an Alpha course for 2025\nThe course offers chan
 ce for those exploring what faith means to them  to do so with others in a
  safe and fun way. \nDinner is included!\n\nContact us:  alpha@midhurstpar
 ishchurch.net
GEO:-0.73753;50.985893
LOCATION:Midhurst Parish Church
URL:https://www.achurchnearyou.com/church/5052/service-and-events/events/1
 147473/
END:VEVENT
BEGIN:VEVENT
SUMMARY:Alpha Course
DTSTART;TZID=Europe/London:20250218T183000
DTEND;TZID=Europe/London:20250218T200000
DTSTAMP:20260425T002455Z
UID:11474732025-02-18 18:30:00+00:00achurchnearyou
CATEGORIES:
DESCRIPTION:Curious about faith?\nIn conjunction with 3 Counties Church\, 
 we are delighted to offer an Alpha course for 2025\nThe course offers chan
 ce for those exploring what faith means to them  to do so with others in a
  safe and fun way. \nDinner is included!\n\nContact us:  alpha@midhurstpar
 ishchurch.net
GEO:-0.73753;50.985893
LOCATION:Midhurst Parish Church
URL:https://www.achurchnearyou.com/church/5052/service-and-events/events/1
 147473/
END:VEVENT
BEGIN:VEVENT
SUMMARY:Alpha Course
DTSTART;TZID=Europe/London:20250225T183000
DTEND;TZID=Europe/London:20250225T200000
DTSTAMP:20260425T002455Z
UID:11474732025-02-25 18:30:00+00:00achurchnearyou
CATEGORIES:
DESCRIPTION:Curious about faith?\nIn conjunction with 3 Counties Church\, 
 we are delighted to offer an Alpha course for 2025\nThe course offers chan
 ce for those exploring what faith means to them  to do so with others in a
  safe and fun way. \nDinner is included!\n\nContact us:  alpha@midhurstpar
 ishchurch.net
GEO:-0.73753;50.985893
LOCATION:Midhurst Parish Church
URL:https://www.achurchnearyou.com/church/5052/service-and-events/events/1
 147473/
END:VEVENT
BEGIN:VEVENT
SUMMARY:Alpha Course
DTSTART;TZID=Europe/London:20250304T183000
DTEND;TZID=Europe/London:20250304T200000
DTSTAMP:20260425T002455Z
UID:11474732025-03-04 18:30:00+00:00achurchnearyou
CATEGORIES:
DESCRIPTION:Curious about faith?\nIn conjunction with 3 Counties Church\, 
 we are delighted to offer an Alpha course for 2025\nThe course offers chan
 ce for those exploring what faith means to them  to do so with others in a
  safe and fun way. \nDinner is included!\n\nContact us:  alpha@midhurstpar
 ishchurch.net
GEO:-0.73753;50.985893
LOCATION:Midhurst Parish Church
URL:https://www.achurchnearyou.com/church/5052/service-and-events/events/1
 147473/
END:VEVENT
BEGIN:VEVENT
SUMMARY:Alpha Course
DTSTART;TZID=Europe/London:20250311T183000
DTEND;TZID=Europe/London:20250311T200000
DTSTAMP:20260425T002455Z
UID:11474732025-03-11 18:30:00+00:00achurchnearyou
CATEGORIES:
DESCRIPTION:Curious about faith?\nIn conjunction with 3 Counties Church\, 
 we are delighted to offer an Alpha course for 2025\nThe course offers chan
 ce for those exploring what faith means to them  to do so with others in a
  safe and fun way. \nDinner is included!\n\nContact us:  alpha@midhurstpar
 ishchurch.net
GEO:-0.73753;50.985893
LOCATION:Midhurst Parish Church
URL:https://www.achurchnearyou.com/church/5052/service-and-events/events/1
 147473/
END:VEVENT
BEGIN:VEVENT
SUMMARY:Alpha Course
DTSTART;TZID=Europe/London:20250318T183000
DTEND;TZID=Europe/London:20250318T200000
DTSTAMP:20260425T002455Z
UID:11474732025-03-18 18:30:00+00:00achurchnearyou
CATEGORIES:
DESCRIPTION:Curious about faith?\nIn conjunction with 3 Counties Church\, 
 we are delighted to offer an Alpha course for 2025\nThe course offers chan
 ce for those exploring what faith means to them  to do so with others in a
  safe and fun way. \nDinner is included!\n\nContact us:  alpha@midhurstpar
 ishchurch.net
GEO:-0.73753;50.985893
LOCATION:Midhurst Parish Church
URL:https://www.achurchnearyou.com/church/5052/service-and-events/events/1
 147473/
END:VEVENT
BEGIN:VEVENT
SUMMARY:Alpha Course
DTSTART;TZID=Europe/London:20250325T183000
DTEND;TZID=Europe/London:20250325T200000
DTSTAMP:20260425T002455Z
UID:11474732025-03-25 18:30:00+00:00achurchnearyou
CATEGORIES:
DESCRIPTION:Curious about faith?\nIn conjunction with 3 Counties Church\, 
 we are delighted to offer an Alpha course for 2025\nThe course offers chan
 ce for those exploring what faith means to them  to do so with others in a
  safe and fun way. \nDinner is included!\n\nContact us:  alpha@midhurstpar
 ishchurch.net
GEO:-0.73753;50.985893
LOCATION:Midhurst Parish Church
URL:https://www.achurchnearyou.com/church/5052/service-and-events/events/1
 147473/
END:VEVENT
BEGIN:VEVENT
SUMMARY:Alpha Course
DTSTART;TZID=Europe/London:20250401T183000
DTEND;TZID=Europe/London:20250401T200000
DTSTAMP:20260425T002455Z
UID:11474732025-04-01 18:30:00+01:00achurchnearyou
CATEGORIES:
DESCRIPTION:Curious about faith?\nIn conjunction with 3 Counties Church\, 
 we are delighted to offer an Alpha course for 2025\nThe course offers chan
 ce for those exploring what faith means to them  to do so with others in a
  safe and fun way. \nDinner is included!\n\nContact us:  alpha@midhurstpar
 ishchurch.net
GEO:-0.73753;50.985893
LOCATION:Midhurst Parish Church
URL:https://www.achurchnearyou.com/church/5052/service-and-events/events/1
 147473/
END:VEVENT
BEGIN:VEVENT
SUMMARY:Alpha Course
DTSTART;TZID=Europe/London:20250408T183000
DTEND;TZID=Europe/London:20250408T200000
DTSTAMP:20260425T002455Z
UID:11474732025-04-08 18:30:00+01:00achurchnearyou
CATEGORIES:
DESCRIPTION:Curious about faith?\nIn conjunction with 3 Counties Church\, 
 we are delighted to offer an Alpha course for 2025\nThe course offers chan
 ce for those exploring what faith means to them  to do so with others in a
  safe and fun way. \nDinner is included!\n\nContact us:  alpha@midhurstpar
 ishchurch.net
GEO:-0.73753;50.985893
LOCATION:Midhurst Parish Church
URL:https://www.achurchnearyou.com/church/5052/service-and-events/events/1
 147473/
END:VEVENT
END:VCALENDAR
