BEGIN:VCALENDAR
VERSION:2.0
PRODID:-//achurchnearyou.com//eventfeed//EN
CALSCALE:GREGORIAN
METHOD:PUBLISH
X-WR-TIMEZONE:UTC
BEGIN:VEVENT
SUMMARY:Good Friday Creative Workshop
DTSTART:20250418T093000Z
DTEND:20250418T110000Z
DTSTAMP:20260424T212739Z
UID:11625202025-04-18 09:30:00+00:00achurchnearyou
CATEGORIES:
DESCRIPTION:An opportunity to come and reflect creatively on the Cross\, w
 ith Hot Cross buns and refreshments.  There will creative activities suita
 ble for all ages and all abilities\, or just come along for a drink and se
 e what everyone else is doing.
GEO:-0.692864;50.800504
LOCATION:Holy Cross
URL:https://www.achurchnearyou.com/church/5064/service-and-events/events/1
 162520/
END:VEVENT
END:VCALENDAR
