BEGIN:VCALENDAR
VERSION:2.0
PRODID:-//achurchnearyou.com//eventfeed//EN
CALSCALE:GREGORIAN
METHOD:PUBLISH
X-WR-TIMEZONE:UTC
BEGIN:VEVENT
SUMMARY:** Christingle Service **
DTSTART:20251130T160000Z
DTEND:20251130T164500Z
DTSTAMP:20260424T043907Z
UID:12614102025-11-30 16:00:00+00:00achurchnearyou
CATEGORIES:
DESCRIPTION:A 45 minute family-friendly service\, celebrating Jesus Christ
  the Light of the World\, through the symbolic creation of the Christingle
 .
GEO:-0.692864;50.800504
LOCATION:Holy Cross
URL:https://www.achurchnearyou.com/church/5064/service-and-events/events/1
 261410/
END:VEVENT
END:VCALENDAR
