BEGIN:VCALENDAR
VERSION:2.0
PRODID:-//achurchnearyou.com//eventfeed//EN
CALSCALE:GREGORIAN
METHOD:PUBLISH
X-WR-TIMEZONE:UTC
BEGIN:VEVENT
SUMMARY:The Bear Necessities
DTSTART;TZID=Europe/London:20260413T193000
DTEND;TZID=Europe/London:20260413T210000
DTSTAMP:20260422T213306Z
UID:12088072026-04-13 19:30:00+01:00achurchnearyou
CATEGORIES:
DESCRIPTION:This meeting is for women of all ages and provides a safe spac
 e for good conversation of current affairs with no hidden agenda.
LOCATION:The Bear Inn
URL:https://www.achurchnearyou.com/church/5079/service-and-events/events/1
 208807/
END:VEVENT
END:VCALENDAR
