BEGIN:VCALENDAR
VERSION:2.0
PRODID:-//achurchnearyou.com//eventfeed//EN
CALSCALE:GREGORIAN
METHOD:PUBLISH
X-WR-TIMEZONE:UTC
BEGIN:VEVENT
SUMMARY:Good Friday Service
DTSTART;TZID=Europe/London:20260403T103000
DTEND;TZID=Europe/London:20260403T113000
DTSTAMP:20260421T234921Z
UID:13164411775208600.0achurchnearyou
CATEGORIES:
DESCRIPTION:A joint service of hymns\, readings\, and reflection with our 
 friends from Pevensey Bay Baptist Church
GEO:0.350331;50.811565
LOCATION:St Wilfrid
URL:https://www.achurchnearyou.com/church/5090/service-and-events/events/1
 316441/
END:VEVENT
BEGIN:VEVENT
SUMMARY:Easter Sunday Holy Communion
DTSTART;TZID=Europe/London:20260405T093000
DTEND;TZID=Europe/London:20260405T103000
DTSTAMP:20260421T234921Z
UID:12908251775377800.0achurchnearyou
CATEGORIES:
DESCRIPTION:Join us to celebrate Easter Sunday together! We will sing hymn
 s\, pray together\, and share Holy Communion. There will be refreshments a
 fter the service.
GEO:0.350331;50.811565
LOCATION:St Wilfrid
URL:https://www.achurchnearyou.com/church/5090/service-and-events/events/1
 290825/
END:VEVENT
BEGIN:VEVENT
SUMMARY:Weekly Sunday Service
DTSTART;TZID=Europe/London:20260405T093000
DTEND;TZID=Europe/London:20260405T103000
DTSTAMP:20260421T234921Z
UID:4423801775377800.0achurchnearyou
CATEGORIES:
DESCRIPTION:A short service of Holy Communion\, following Common Worship.\
 nWe sing hymns\, hear readings from the Bible\, are lead in prayer\, and t
 ake Holy Communion. This is followed by refreshments (cake!) in the hall.
GEO:0.350331;50.811565
LOCATION:St Wilfrid
URL:https://www.achurchnearyou.com/church/5090/service-and-events/events/4
 42380/
END:VEVENT
BEGIN:VEVENT
SUMMARY:Weekly Sunday Service
DTSTART;TZID=Europe/London:20260412T093000
DTEND;TZID=Europe/London:20260412T103000
DTSTAMP:20260421T234921Z
UID:4423801775982600.0achurchnearyou
CATEGORIES:
DESCRIPTION:A short service of Holy Communion\, following Common Worship.\
 nWe sing hymns\, hear readings from the Bible\, are lead in prayer\, and t
 ake Holy Communion. This is followed by refreshments (cake!) in the hall.
GEO:0.350331;50.811565
LOCATION:St Wilfrid
URL:https://www.achurchnearyou.com/church/5090/service-and-events/events/4
 42380/
END:VEVENT
BEGIN:VEVENT
SUMMARY:Weekly Sunday Service
DTSTART;TZID=Europe/London:20260419T093000
DTEND;TZID=Europe/London:20260419T103000
DTSTAMP:20260421T234921Z
UID:4423801776587400.0achurchnearyou
CATEGORIES:
DESCRIPTION:A short service of Holy Communion\, following Common Worship.\
 nWe sing hymns\, hear readings from the Bible\, are lead in prayer\, and t
 ake Holy Communion. This is followed by refreshments (cake!) in the hall.
GEO:0.350331;50.811565
LOCATION:St Wilfrid
URL:https://www.achurchnearyou.com/church/5090/service-and-events/events/4
 42380/
END:VEVENT
BEGIN:VEVENT
SUMMARY:Weekly Sunday Service
DTSTART;TZID=Europe/London:20260426T093000
DTEND;TZID=Europe/London:20260426T103000
DTSTAMP:20260421T234921Z
UID:4423801777192200.0achurchnearyou
CATEGORIES:
DESCRIPTION:A short service of Holy Communion\, following Common Worship.\
 nWe sing hymns\, hear readings from the Bible\, are lead in prayer\, and t
 ake Holy Communion. This is followed by refreshments (cake!) in the hall.
GEO:0.350331;50.811565
LOCATION:St Wilfrid
URL:https://www.achurchnearyou.com/church/5090/service-and-events/events/4
 42380/
END:VEVENT
BEGIN:VEVENT
SUMMARY:Weekly Sunday Service
DTSTART;TZID=Europe/London:20260503T093000
DTEND;TZID=Europe/London:20260503T103000
DTSTAMP:20260421T234921Z
UID:4423801777797000.0achurchnearyou
CATEGORIES:
DESCRIPTION:A short service of Holy Communion\, following Common Worship.\
 nWe sing hymns\, hear readings from the Bible\, are lead in prayer\, and t
 ake Holy Communion. This is followed by refreshments (cake!) in the hall.
GEO:0.350331;50.811565
LOCATION:St Wilfrid
URL:https://www.achurchnearyou.com/church/5090/service-and-events/events/4
 42380/
END:VEVENT
BEGIN:VEVENT
SUMMARY:Weekly Sunday Service
DTSTART;TZID=Europe/London:20260510T093000
DTEND;TZID=Europe/London:20260510T103000
DTSTAMP:20260421T234921Z
UID:4423801778401800.0achurchnearyou
CATEGORIES:
DESCRIPTION:A short service of Holy Communion\, following Common Worship.\
 nWe sing hymns\, hear readings from the Bible\, are lead in prayer\, and t
 ake Holy Communion. This is followed by refreshments (cake!) in the hall.
GEO:0.350331;50.811565
LOCATION:St Wilfrid
URL:https://www.achurchnearyou.com/church/5090/service-and-events/events/4
 42380/
END:VEVENT
BEGIN:VEVENT
SUMMARY:Weekly Sunday Service
DTSTART;TZID=Europe/London:20260517T093000
DTEND;TZID=Europe/London:20260517T103000
DTSTAMP:20260421T234921Z
UID:4423801779006600.0achurchnearyou
CATEGORIES:
DESCRIPTION:A short service of Holy Communion\, following Common Worship.\
 nWe sing hymns\, hear readings from the Bible\, are lead in prayer\, and t
 ake Holy Communion. This is followed by refreshments (cake!) in the hall.
GEO:0.350331;50.811565
LOCATION:St Wilfrid
URL:https://www.achurchnearyou.com/church/5090/service-and-events/events/4
 42380/
END:VEVENT
BEGIN:VEVENT
SUMMARY:Weekly Sunday Service
DTSTART;TZID=Europe/London:20260524T093000
DTEND;TZID=Europe/London:20260524T103000
DTSTAMP:20260421T234921Z
UID:4423801779611400.0achurchnearyou
CATEGORIES:
DESCRIPTION:A short service of Holy Communion\, following Common Worship.\
 nWe sing hymns\, hear readings from the Bible\, are lead in prayer\, and t
 ake Holy Communion. This is followed by refreshments (cake!) in the hall.
GEO:0.350331;50.811565
LOCATION:St Wilfrid
URL:https://www.achurchnearyou.com/church/5090/service-and-events/events/4
 42380/
END:VEVENT
BEGIN:VEVENT
SUMMARY:Weekly Sunday Service
DTSTART;TZID=Europe/London:20260531T093000
DTEND;TZID=Europe/London:20260531T103000
DTSTAMP:20260421T234921Z
UID:4423801780216200.0achurchnearyou
CATEGORIES:
DESCRIPTION:A short service of Holy Communion\, following Common Worship.\
 nWe sing hymns\, hear readings from the Bible\, are lead in prayer\, and t
 ake Holy Communion. This is followed by refreshments (cake!) in the hall.
GEO:0.350331;50.811565
LOCATION:St Wilfrid
URL:https://www.achurchnearyou.com/church/5090/service-and-events/events/4
 42380/
END:VEVENT
BEGIN:VEVENT
SUMMARY:Weekly Sunday Service
DTSTART;TZID=Europe/London:20260607T093000
DTEND;TZID=Europe/London:20260607T103000
DTSTAMP:20260421T234921Z
UID:4423801780821000.0achurchnearyou
CATEGORIES:
DESCRIPTION:A short service of Holy Communion\, following Common Worship.\
 nWe sing hymns\, hear readings from the Bible\, are lead in prayer\, and t
 ake Holy Communion. This is followed by refreshments (cake!) in the hall.
GEO:0.350331;50.811565
LOCATION:St Wilfrid
URL:https://www.achurchnearyou.com/church/5090/service-and-events/events/4
 42380/
END:VEVENT
BEGIN:VEVENT
SUMMARY:Weekly Sunday Service
DTSTART;TZID=Europe/London:20260614T093000
DTEND;TZID=Europe/London:20260614T103000
DTSTAMP:20260421T234921Z
UID:4423801781425800.0achurchnearyou
CATEGORIES:
DESCRIPTION:A short service of Holy Communion\, following Common Worship.\
 nWe sing hymns\, hear readings from the Bible\, are lead in prayer\, and t
 ake Holy Communion. This is followed by refreshments (cake!) in the hall.
GEO:0.350331;50.811565
LOCATION:St Wilfrid
URL:https://www.achurchnearyou.com/church/5090/service-and-events/events/4
 42380/
END:VEVENT
BEGIN:VEVENT
SUMMARY:Weekly Sunday Service
DTSTART;TZID=Europe/London:20260621T093000
DTEND;TZID=Europe/London:20260621T103000
DTSTAMP:20260421T234921Z
UID:4423801782030600.0achurchnearyou
CATEGORIES:
DESCRIPTION:A short service of Holy Communion\, following Common Worship.\
 nWe sing hymns\, hear readings from the Bible\, are lead in prayer\, and t
 ake Holy Communion. This is followed by refreshments (cake!) in the hall.
GEO:0.350331;50.811565
LOCATION:St Wilfrid
URL:https://www.achurchnearyou.com/church/5090/service-and-events/events/4
 42380/
END:VEVENT
BEGIN:VEVENT
SUMMARY:Weekly Sunday Service
DTSTART;TZID=Europe/London:20260628T093000
DTEND;TZID=Europe/London:20260628T103000
DTSTAMP:20260421T234921Z
UID:4423801782635400.0achurchnearyou
CATEGORIES:
DESCRIPTION:A short service of Holy Communion\, following Common Worship.\
 nWe sing hymns\, hear readings from the Bible\, are lead in prayer\, and t
 ake Holy Communion. This is followed by refreshments (cake!) in the hall.
GEO:0.350331;50.811565
LOCATION:St Wilfrid
URL:https://www.achurchnearyou.com/church/5090/service-and-events/events/4
 42380/
END:VEVENT
BEGIN:VEVENT
SUMMARY:Weekly Sunday Service
DTSTART;TZID=Europe/London:20260705T093000
DTEND;TZID=Europe/London:20260705T103000
DTSTAMP:20260421T234921Z
UID:4423801783240200.0achurchnearyou
CATEGORIES:
DESCRIPTION:A short service of Holy Communion\, following Common Worship.\
 nWe sing hymns\, hear readings from the Bible\, are lead in prayer\, and t
 ake Holy Communion. This is followed by refreshments (cake!) in the hall.
GEO:0.350331;50.811565
LOCATION:St Wilfrid
URL:https://www.achurchnearyou.com/church/5090/service-and-events/events/4
 42380/
END:VEVENT
BEGIN:VEVENT
SUMMARY:Weekly Sunday Service
DTSTART;TZID=Europe/London:20260712T093000
DTEND;TZID=Europe/London:20260712T103000
DTSTAMP:20260421T234921Z
UID:4423801783845000.0achurchnearyou
CATEGORIES:
DESCRIPTION:A short service of Holy Communion\, following Common Worship.\
 nWe sing hymns\, hear readings from the Bible\, are lead in prayer\, and t
 ake Holy Communion. This is followed by refreshments (cake!) in the hall.
GEO:0.350331;50.811565
LOCATION:St Wilfrid
URL:https://www.achurchnearyou.com/church/5090/service-and-events/events/4
 42380/
END:VEVENT
BEGIN:VEVENT
SUMMARY:Weekly Sunday Service
DTSTART;TZID=Europe/London:20260719T093000
DTEND;TZID=Europe/London:20260719T103000
DTSTAMP:20260421T234921Z
UID:4423801784449800.0achurchnearyou
CATEGORIES:
DESCRIPTION:A short service of Holy Communion\, following Common Worship.\
 nWe sing hymns\, hear readings from the Bible\, are lead in prayer\, and t
 ake Holy Communion. This is followed by refreshments (cake!) in the hall.
GEO:0.350331;50.811565
LOCATION:St Wilfrid
URL:https://www.achurchnearyou.com/church/5090/service-and-events/events/4
 42380/
END:VEVENT
BEGIN:VEVENT
SUMMARY:Weekly Sunday Service
DTSTART;TZID=Europe/London:20260726T093000
DTEND;TZID=Europe/London:20260726T103000
DTSTAMP:20260421T234921Z
UID:4423801785054600.0achurchnearyou
CATEGORIES:
DESCRIPTION:A short service of Holy Communion\, following Common Worship.\
 nWe sing hymns\, hear readings from the Bible\, are lead in prayer\, and t
 ake Holy Communion. This is followed by refreshments (cake!) in the hall.
GEO:0.350331;50.811565
LOCATION:St Wilfrid
URL:https://www.achurchnearyou.com/church/5090/service-and-events/events/4
 42380/
END:VEVENT
BEGIN:VEVENT
SUMMARY:Weekly Sunday Service
DTSTART;TZID=Europe/London:20260802T093000
DTEND;TZID=Europe/London:20260802T103000
DTSTAMP:20260421T234921Z
UID:4423801785659400.0achurchnearyou
CATEGORIES:
DESCRIPTION:A short service of Holy Communion\, following Common Worship.\
 nWe sing hymns\, hear readings from the Bible\, are lead in prayer\, and t
 ake Holy Communion. This is followed by refreshments (cake!) in the hall.
GEO:0.350331;50.811565
LOCATION:St Wilfrid
URL:https://www.achurchnearyou.com/church/5090/service-and-events/events/4
 42380/
END:VEVENT
BEGIN:VEVENT
SUMMARY:Weekly Sunday Service
DTSTART;TZID=Europe/London:20260809T093000
DTEND;TZID=Europe/London:20260809T103000
DTSTAMP:20260421T234921Z
UID:4423801786264200.0achurchnearyou
CATEGORIES:
DESCRIPTION:A short service of Holy Communion\, following Common Worship.\
 nWe sing hymns\, hear readings from the Bible\, are lead in prayer\, and t
 ake Holy Communion. This is followed by refreshments (cake!) in the hall.
GEO:0.350331;50.811565
LOCATION:St Wilfrid
URL:https://www.achurchnearyou.com/church/5090/service-and-events/events/4
 42380/
END:VEVENT
BEGIN:VEVENT
SUMMARY:Weekly Sunday Service
DTSTART;TZID=Europe/London:20260816T093000
DTEND;TZID=Europe/London:20260816T103000
DTSTAMP:20260421T234921Z
UID:4423801786869000.0achurchnearyou
CATEGORIES:
DESCRIPTION:A short service of Holy Communion\, following Common Worship.\
 nWe sing hymns\, hear readings from the Bible\, are lead in prayer\, and t
 ake Holy Communion. This is followed by refreshments (cake!) in the hall.
GEO:0.350331;50.811565
LOCATION:St Wilfrid
URL:https://www.achurchnearyou.com/church/5090/service-and-events/events/4
 42380/
END:VEVENT
BEGIN:VEVENT
SUMMARY:Weekly Sunday Service
DTSTART;TZID=Europe/London:20260823T093000
DTEND;TZID=Europe/London:20260823T103000
DTSTAMP:20260421T234921Z
UID:4423801787473800.0achurchnearyou
CATEGORIES:
DESCRIPTION:A short service of Holy Communion\, following Common Worship.\
 nWe sing hymns\, hear readings from the Bible\, are lead in prayer\, and t
 ake Holy Communion. This is followed by refreshments (cake!) in the hall.
GEO:0.350331;50.811565
LOCATION:St Wilfrid
URL:https://www.achurchnearyou.com/church/5090/service-and-events/events/4
 42380/
END:VEVENT
BEGIN:VEVENT
SUMMARY:Weekly Sunday Service
DTSTART;TZID=Europe/London:20260830T093000
DTEND;TZID=Europe/London:20260830T103000
DTSTAMP:20260421T234921Z
UID:4423801788078600.0achurchnearyou
CATEGORIES:
DESCRIPTION:A short service of Holy Communion\, following Common Worship.\
 nWe sing hymns\, hear readings from the Bible\, are lead in prayer\, and t
 ake Holy Communion. This is followed by refreshments (cake!) in the hall.
GEO:0.350331;50.811565
LOCATION:St Wilfrid
URL:https://www.achurchnearyou.com/church/5090/service-and-events/events/4
 42380/
END:VEVENT
BEGIN:VEVENT
SUMMARY:Weekly Sunday Service
DTSTART;TZID=Europe/London:20260906T093000
DTEND;TZID=Europe/London:20260906T103000
DTSTAMP:20260421T234921Z
UID:4423801788683400.0achurchnearyou
CATEGORIES:
DESCRIPTION:A short service of Holy Communion\, following Common Worship.\
 nWe sing hymns\, hear readings from the Bible\, are lead in prayer\, and t
 ake Holy Communion. This is followed by refreshments (cake!) in the hall.
GEO:0.350331;50.811565
LOCATION:St Wilfrid
URL:https://www.achurchnearyou.com/church/5090/service-and-events/events/4
 42380/
END:VEVENT
BEGIN:VEVENT
SUMMARY:Weekly Sunday Service
DTSTART;TZID=Europe/London:20260913T093000
DTEND;TZID=Europe/London:20260913T103000
DTSTAMP:20260421T234921Z
UID:4423801789288200.0achurchnearyou
CATEGORIES:
DESCRIPTION:A short service of Holy Communion\, following Common Worship.\
 nWe sing hymns\, hear readings from the Bible\, are lead in prayer\, and t
 ake Holy Communion. This is followed by refreshments (cake!) in the hall.
GEO:0.350331;50.811565
LOCATION:St Wilfrid
URL:https://www.achurchnearyou.com/church/5090/service-and-events/events/4
 42380/
END:VEVENT
BEGIN:VEVENT
SUMMARY:Weekly Sunday Service
DTSTART;TZID=Europe/London:20260920T093000
DTEND;TZID=Europe/London:20260920T103000
DTSTAMP:20260421T234921Z
UID:4423801789893000.0achurchnearyou
CATEGORIES:
DESCRIPTION:A short service of Holy Communion\, following Common Worship.\
 nWe sing hymns\, hear readings from the Bible\, are lead in prayer\, and t
 ake Holy Communion. This is followed by refreshments (cake!) in the hall.
GEO:0.350331;50.811565
LOCATION:St Wilfrid
URL:https://www.achurchnearyou.com/church/5090/service-and-events/events/4
 42380/
END:VEVENT
BEGIN:VEVENT
SUMMARY:Weekly Sunday Service
DTSTART;TZID=Europe/London:20260927T093000
DTEND;TZID=Europe/London:20260927T103000
DTSTAMP:20260421T234921Z
UID:4423801790497800.0achurchnearyou
CATEGORIES:
DESCRIPTION:A short service of Holy Communion\, following Common Worship.\
 nWe sing hymns\, hear readings from the Bible\, are lead in prayer\, and t
 ake Holy Communion. This is followed by refreshments (cake!) in the hall.
GEO:0.350331;50.811565
LOCATION:St Wilfrid
URL:https://www.achurchnearyou.com/church/5090/service-and-events/events/4
 42380/
END:VEVENT
END:VCALENDAR
