BEGIN:VCALENDAR
VERSION:2.0
PRODID:-//achurchnearyou.com//eventfeed//EN
CALSCALE:GREGORIAN
METHOD:PUBLISH
X-WR-TIMEZONE:UTC
BEGIN:VEVENT
SUMMARY:Extraordinary Parochial Church Meeting
DTSTART:20250820T063000Z
DTEND:20250820T073000Z
DTSTAMP:20260422T052303Z
UID:12167502025-08-20 06:30:00+00:00achurchnearyou
CATEGORIES:
DESCRIPTION:Church members meeting
GEO:0.035546;50.809498
LOCATION:St John
URL:https://www.achurchnearyou.com/church/5092/service-and-events/events/1
 216750/
END:VEVENT
END:VCALENDAR
