BEGIN:VCALENDAR
VERSION:2.0
PRODID:-//achurchnearyou.com//eventfeed//EN
CALSCALE:GREGORIAN
METHOD:PUBLISH
X-WR-TIMEZONE:UTC
BEGIN:VEVENT
SUMMARY:Come and sing evensong
DTSTART:20260201T153000Z
DTEND:20260201T191500Z
DTSTAMP:20260424T203120Z
UID:12857382026-02-01 15:30:00+00:00achurchnearyou
CATEGORIES:
DESCRIPTION:Our next Come and Sing Choral Evensong is on Sunday 1st Februa
 ry. No previous experience of singing with a choir is necessary!\nRehearsa
 ls begin at 3.30pm. There will be a break for tea at 5.15pm\, and the serv
 ice starts at 6pm. \nTo register your interest\, please click the link bel
 ow:
GEO:-0.158374;50.842022
LOCATION:Church of The Good Shepherd
URL:https://forms.gle/iXW18Zk1Gf1zb89S6
END:VEVENT
END:VCALENDAR
