BEGIN:VCALENDAR
VERSION:2.0
PRODID:-//achurchnearyou.com//eventfeed//EN
CALSCALE:GREGORIAN
METHOD:PUBLISH
X-WR-TIMEZONE:UTC
BEGIN:VEVENT
SUMMARY:EASTER DAY  Holy Communion
DTSTART:20260405T070000Z
DTEND:20260405T080000Z
DTSTAMP:20260424T142944Z
UID:12908552026-04-05 07:00:00+00:00achurchnearyou
CATEGORIES:
DESCRIPTION:Said Eucharist
GEO:-0.158374;50.842022
LOCATION:Church of The Good Shepherd
URL:https://www.achurchnearyou.com/church/5106/service-and-events/events/1
 290855/
END:VEVENT
END:VCALENDAR
