BEGIN:VCALENDAR
VERSION:2.0
PRODID:-//achurchnearyou.com//eventfeed//EN
CALSCALE:GREGORIAN
METHOD:PUBLISH
X-WR-TIMEZONE:UTC
BEGIN:VEVENT
SUMMARY:A Solstice Celebration
DTSTART:20251210T180000Z
DTEND:20251210T193000Z
DTSTAMP:20260420T094632Z
UID:12533802025-12-10 18:00:00+00:00achurchnearyou
CATEGORIES:
DESCRIPTION:Come and join St John the Evangelist\, Preston\, Brighton for 
 A Solstice Celebration on Wednesday 10 December 6.00PM - 7.30PM\n\nCome an
 d share the seasonal warmth of fire and friendship in the new Community Ga
 rden of St John the Evangelist\, entrances in Knoyle Road and Preston Road
 .\n\nThis family-friendly event will include a short play\, "As the Year T
 urns" an age-old Solstice story. It's the Holly King's bid to keep the wor
 ld in Winter darkness and prevent the coming of the Light.  Spoiler alert 
 - he doesn't succeed!\n\nThis will be followed by mince pies\, mulled wine
 \, or hot chocolate\, with carol singing around the fire as we welcome\, t
 ogether\, the coming of the Light - marking in our own way the Christian m
 essage of light overcoming darkness.\n\nWrap up warm and bring your own la
 ntern!
GEO:-0.151009;50.844441
LOCATION:St John the Evangelist
URL:https://www.achurchnearyou.com/church/5107/service-and-events/events/1
 253380/
END:VEVENT
END:VCALENDAR
