BEGIN:VCALENDAR
VERSION:2.0
PRODID:-//achurchnearyou.com//eventfeed//EN
CALSCALE:GREGORIAN
METHOD:PUBLISH
X-WR-TIMEZONE:UTC
BEGIN:VEVENT
SUMMARY:Carol Singing
DTSTART:20251221T180000Z
DTEND:20251221T190000Z
DTSTAMP:20260420T094731Z
UID:12534052025-12-21 18:00:00+00:00achurchnearyou
CATEGORIES:
DESCRIPTION:Come along to Community Carol Singing and sing your favourite 
 Christmas carols and then enjoy some festive refreshments at St John the E
 vangelist\, Preston\, Brighton on Sunday 21 December at 6pm.
GEO:-0.151009;50.844441
LOCATION:St John the Evangelist
URL:https://www.achurchnearyou.com/church/5107/service-and-events/events/1
 253405/
END:VEVENT
END:VCALENDAR
