BEGIN:VCALENDAR
VERSION:2.0
PRODID:-//achurchnearyou.com//eventfeed//EN
CALSCALE:GREGORIAN
METHOD:PUBLISH
X-WR-TIMEZONE:UTC
BEGIN:VEVENT
SUMMARY:Christingle Service
DTSTART:20251130T160000Z
DTEND:20251130T171500Z
DTSTAMP:20260424T040253Z
UID:12424372025-11-30 16:00:00+00:00achurchnearyou
CATEGORIES:
DESCRIPTION:In aid of the Children's Society and concluding with the light
 ing of the Pulborough Star
GEO:-0.510577;50.958848
LOCATION:St Mary's
URL:https://www.achurchnearyou.com/church/5109/service-and-events/events/1
 242437/
END:VEVENT
END:VCALENDAR
