BEGIN:VCALENDAR
VERSION:2.0
PRODID:-//achurchnearyou.com//eventfeed//EN
CALSCALE:GREGORIAN
METHOD:PUBLISH
X-WR-TIMEZONE:UTC
BEGIN:VEVENT
SUMMARY:Churches Together Lent Course
DTSTART;TZID=Europe/London:20260225T140000
DTEND;TZID=Europe/London:20260225T150000
DTSTAMP:20260422T233314Z
UID:12887912026-02-25 14:00:00+00:00achurchnearyou
CATEGORIES:
DESCRIPTION:Join us on  a Wednesday afternoon for this Lent Course\nThis i
 s a Churches Together course to be held at St Peter & St Paul\, Rustington
  for 4 weeks.
GEO:-0.511078;50.810273
LOCATION:St Peter & St Paul\, Rustington
URL:https://www.achurchnearyou.com/church/5121/service-and-events/events/1
 288791/
END:VEVENT
BEGIN:VEVENT
SUMMARY:Churches Together Lent Course
DTSTART;TZID=Europe/London:20260304T140000
DTEND;TZID=Europe/London:20260304T150000
DTSTAMP:20260422T233314Z
UID:12887912026-03-04 14:00:00+00:00achurchnearyou
CATEGORIES:
DESCRIPTION:Join us on  a Wednesday afternoon for this Lent Course\nThis i
 s a Churches Together course to be held at St Peter & St Paul\, Rustington
  for 4 weeks.
GEO:-0.511078;50.810273
LOCATION:St Peter & St Paul\, Rustington
URL:https://www.achurchnearyou.com/church/5121/service-and-events/events/1
 288791/
END:VEVENT
BEGIN:VEVENT
SUMMARY:Churches Together Lent Course
DTSTART;TZID=Europe/London:20260311T140000
DTEND;TZID=Europe/London:20260311T150000
DTSTAMP:20260422T233314Z
UID:12887912026-03-11 14:00:00+00:00achurchnearyou
CATEGORIES:
DESCRIPTION:Join us on  a Wednesday afternoon for this Lent Course\nThis i
 s a Churches Together course to be held at St Peter & St Paul\, Rustington
  for 4 weeks.
GEO:-0.511078;50.810273
LOCATION:St Peter & St Paul\, Rustington
URL:https://www.achurchnearyou.com/church/5121/service-and-events/events/1
 288791/
END:VEVENT
BEGIN:VEVENT
SUMMARY:Churches Together Lent Course
DTSTART;TZID=Europe/London:20260318T140000
DTEND;TZID=Europe/London:20260318T150000
DTSTAMP:20260422T233314Z
UID:12887912026-03-18 14:00:00+00:00achurchnearyou
CATEGORIES:
DESCRIPTION:Join us on  a Wednesday afternoon for this Lent Course\nThis i
 s a Churches Together course to be held at St Peter & St Paul\, Rustington
  for 4 weeks.
GEO:-0.511078;50.810273
LOCATION:St Peter & St Paul\, Rustington
URL:https://www.achurchnearyou.com/church/5121/service-and-events/events/1
 288791/
END:VEVENT
END:VCALENDAR
