BEGIN:VCALENDAR
VERSION:2.0
PRODID:-//achurchnearyou.com//eventfeed//EN
CALSCALE:GREGORIAN
METHOD:PUBLISH
X-WR-TIMEZONE:UTC
BEGIN:VEVENT
SUMMARY:Easter Gathering
DTSTART:20260409T093000Z
DTEND:20260409T110000Z
DTSTAMP:20260423T021343Z
UID:13172432026-04-09 09:30:00+00:00achurchnearyou
CATEGORIES:
DESCRIPTION:Live music\, jigsaws\, board games\, homemade cakes\, crafts f
 or children\, knit & natter\, soft play\nAll welcome and all free!
GEO:-0.511078;50.810273
LOCATION:St Peter & St Paul\, Rustington
URL:https://www.achurchnearyou.com/church/5121/service-and-events/events/1
 317243/
END:VEVENT
END:VCALENDAR
