BEGIN:VCALENDAR
VERSION:2.0
PRODID:-//achurchnearyou.com//eventfeed//EN
CALSCALE:GREGORIAN
METHOD:PUBLISH
X-WR-TIMEZONE:UTC
BEGIN:VEVENT
SUMMARY:Holy Week - Evening Prayer - Wednesday 1st March 2026 at St.Bartho
 lomew's Albourne
DTSTART;TZID=Europe/London:20260401T160000
DTEND;TZID=Europe/London:20260401T170000
DTSTAMP:20260423T054258Z
UID:12943111775055600.0achurchnearyou
CATEGORIES:
DESCRIPTION:Holy Week - A Service of Evening Prayer will be held at St. Ba
 rtholomew's Church\, Albourne at 4.00p.m. on Wednesday 1st April 2026.  Do
  join us.
LOCATION:St.Bartholomew's Church Albourne
URL:https://www.achurchnearyou.com/church/5126/service-and-events/events/1
 294311/
END:VEVENT
BEGIN:VEVENT
SUMMARY:Holy Week - Maundy Thursday Service - Thursday 2nd April 2026 at C
 hrist Church
DTSTART;TZID=Europe/London:20260402T160000
DTEND;TZID=Europe/London:20260402T170000
DTSTAMP:20260423T054258Z
UID:12943151775142000.0achurchnearyou
CATEGORIES:
DESCRIPTION:Holy Week - A Maundy Thursday Holy Communion Service will be h
 eld on Thursday 2nd April 2026 at Christ Church\, 4.00p.m.  Do join us.
GEO:-0.194538;50.953134
LOCATION:Christ Church
URL:https://www.achurchnearyou.com/church/5126/service-and-events/events/1
 294315/
END:VEVENT
BEGIN:VEVENT
SUMMARY:Holy Week - Good Friday Service at St. Peter's Church Twineham on 
 Friday 3rd April 2026
DTSTART;TZID=Europe/London:20260403T110000
DTEND;TZID=Europe/London:20260403T120000
DTSTAMP:20260423T054258Z
UID:12943271775210400.0achurchnearyou
CATEGORIES:
DESCRIPTION:Holy Week - A Reflective Service for Good Friday will be held 
 on Friday 3rd April 2026 at St. Peter's Church Twineham at 11.00a.m. Do jo
 in us.
LOCATION:St. Peter's Church Twineham
URL:https://www.achurchnearyou.com/church/5126/service-and-events/events/1
 294327/
END:VEVENT
BEGIN:VEVENT
SUMMARY:Easter Day Service at Christ Church - Sunday 5th April 2026
DTSTART;TZID=Europe/London:20260405T100000
DTEND;TZID=Europe/London:20260405T110000
DTSTAMP:20260423T054258Z
UID:12948021775379600.0achurchnearyou
CATEGORIES:
DESCRIPTION:ASCaT Parish Easter Sunday Service will be held on Sunday 5th 
 April 2026 at Christ Church Sayers Common at 10.00a.m.  Do join us on this
  very special day
GEO:-0.194538;50.953134
LOCATION:Christ Church
URL:https://www.achurchnearyou.com/church/5126/service-and-events/events/1
 294802/
END:VEVENT
BEGIN:VEVENT
SUMMARY:Second Sunday of Easter Service - Sunday 12th April 2026
DTSTART;TZID=Europe/London:20260412T100000
DTEND;TZID=Europe/London:20260412T110000
DTSTAMP:20260423T054258Z
UID:13139171775984400.0achurchnearyou
CATEGORIES:
DESCRIPTION:The Second Sunday of Easter Service will take place on Sunday 
 12th April 2026 at St. Bartholomew's Church\, Albourne at 10.00a.m.  Do jo
 in us if you can.
LOCATION:St. Bartholomew's Church\, Albourne
URL:https://www.achurchnearyou.com/church/5126/service-and-events/events/1
 313917/
END:VEVENT
BEGIN:VEVENT
SUMMARY:The Third Sunday of Easter Service - Sunday 19th April 2026
DTSTART;TZID=Europe/London:20260419T100000
DTEND;TZID=Europe/London:20260419T110000
DTSTAMP:20260423T054258Z
UID:13139391776589200.0achurchnearyou
CATEGORIES:
DESCRIPTION:A Third Sunday of Easter Service will be held on Sunday 19th A
 pril 2026 at Christ Church\, Sayers Common at 10.00a.m. Do join us if you 
 can - you will be most welcome.
GEO:-0.194538;50.953134
LOCATION:Christ Church
URL:https://www.achurchnearyou.com/church/5126/service-and-events/events/1
 313939/
END:VEVENT
BEGIN:VEVENT
SUMMARY:Fourth Sunday of Easter - Sunday 26th April 2026
DTSTART;TZID=Europe/London:20260426T100000
DTEND;TZID=Europe/London:20260426T110000
DTSTAMP:20260423T054258Z
UID:13218091777194000.0achurchnearyou
CATEGORIES:
DESCRIPTION:A Fourth Sunday of Easter Service will be held on Sunday 26th 
 April at St. Peter's Twineham at 10.00a.m.  Do join us if you can.
LOCATION:St.Peter's Church Twineham
URL:https://www.achurchnearyou.com/church/5126/service-and-events/events/1
 321809/
END:VEVENT
BEGIN:VEVENT
SUMMARY:Fifth Sunday of Easter - Sunday 3rd May 2026
DTSTART;TZID=Europe/London:20260503T100000
DTEND;TZID=Europe/London:20260503T110000
DTSTAMP:20260423T054258Z
UID:13218121777798800.0achurchnearyou
CATEGORIES:
DESCRIPTION:A Fifth Sunday of Easter Service will be held at Christ Church
 \, Sayers Common  on Sunday 3rd May 2026 at 10.00a.m. Do join us if you ca
 n.
GEO:-0.194538;50.953134
LOCATION:Christ Church
URL:https://www.achurchnearyou.com/church/5126/service-and-events/events/1
 321812/
END:VEVENT
BEGIN:VEVENT
SUMMARY:Sixth Sunday of Easter Service - Sunday 10th May 2026
DTSTART;TZID=Europe/London:20260510T100000
DTEND;TZID=Europe/London:20260510T110000
DTSTAMP:20260423T054258Z
UID:13218151778403600.0achurchnearyou
CATEGORIES:
DESCRIPTION:A Sixth Sunday of Easter Service will be held on Sunday 10th M
 ay 2026 at St. Bartholomew's Albourne at 10.00a.m.  Do join us if you can.
LOCATION:St. Bartholomew's Church Albourne
URL:https://www.achurchnearyou.com/church/5126/service-and-events/events/1
 321815/
END:VEVENT
BEGIN:VEVENT
SUMMARY:Seventh Sunday of Easter - Sunday 17th May 2026
DTSTART;TZID=Europe/London:20260524T100000
DTEND;TZID=Europe/London:20260524T110000
DTSTAMP:20260423T054258Z
UID:13218181779613200.0achurchnearyou
CATEGORIES:
DESCRIPTION:A Seventh Sunday of Easter Service will be held at Christ Chur
 ch\, Sayers Common at 10.00a.m.  Do join us if you can.
GEO:-0.194538;50.953134
LOCATION:Christ Church
URL:https://www.achurchnearyou.com/church/5126/service-and-events/events/1
 321818/
END:VEVENT
END:VCALENDAR
