BEGIN:VCALENDAR
VERSION:2.0
PRODID:-//achurchnearyou.com//eventfeed//EN
CALSCALE:GREGORIAN
METHOD:PUBLISH
X-WR-TIMEZONE:UTC
BEGIN:VEVENT
SUMMARY:Retreat Space
DTSTART:20260627T090000Z
DTEND:20260627T110000Z
DTSTAMP:20260421T171438Z
UID:13254832026-06-27 09:00:00+00:00achurchnearyou
CATEGORIES:
DESCRIPTION:Time to pause and draw aside can be hard to find in our busy l
 ives.  St Mary’s church and grounds provide a wonderful conducive space 
 to do that and we welcome people to call in and enjoy the stillness at any
  time.\n\nWe offer a variety of guided times of retreat\, reflection and q
 uiet.  These are designed as an opportunity to deepen in our awareness of 
 God’s love for us and God’s presence in our lives.  They are often lin
 ked into the seasons of the church year and are open to anyone.  We genera
 lly include a mix of guided meditations (often based on Scripture) in a gr
 oup setting\, combined with suggestions for reflection alone\, where there
  is opportunity to find a corner to yourself either inside or outside.  Pa
 rticipants are free to stay as long as they want or are able.  Refreshment
 s are also provided.\n\n“Come with me by yourselves to a quiet place and
  get some rest.” Jesus in the gospel of Mark 6:31\n\nContact: retreats@w
 estwealdparish.org.uk\n\n[EV]
GEO:-0.207918;51.038326
LOCATION:St Mary's Church\, Slaugham
URL:https://www.achurchnearyou.com/church/5139/service-and-events/events/1
 325483/
END:VEVENT
END:VCALENDAR
