BEGIN:VCALENDAR
VERSION:2.0
PRODID:-//achurchnearyou.com//eventfeed//EN
CALSCALE:GREGORIAN
METHOD:PUBLISH
X-WR-TIMEZONE:UTC
BEGIN:VEVENT
SUMMARY:Candlelight Crib Service
DTSTART:20251224T180000Z
DTEND:20251224T190000Z
DTSTAMP:20260422T013057Z
UID:12385572025-12-24 18:00:00+00:00achurchnearyou
CATEGORIES:
DESCRIPTION:A candlelight service with readings telling the Christmas stor
 y and carols for everyone to sing.\nNo tickets required - all welcome
LOCATION:St Michael and All Angels
URL:https://www.achurchnearyou.com/church/5142/service-and-events/events/1
 238557/
END:VEVENT
END:VCALENDAR
