BEGIN:VCALENDAR
VERSION:2.0
PRODID:-//achurchnearyou.com//eventfeed//EN
CALSCALE:GREGORIAN
METHOD:PUBLISH
X-WR-TIMEZONE:UTC
BEGIN:VEVENT
SUMMARY:Ash Wednesday Communion
DTSTART:20250305T100000Z
DTEND:20250305T110000Z
DTSTAMP:20260420T112631Z
UID:11589672025-03-05 10:00:00+00:00achurchnearyou
CATEGORIES:
DESCRIPTION:A service of Holy Communion to mark the start of Lent
GEO:0.533704;50.852448
LOCATION:St Ethelburga's Church
URL:https://www.achurchnearyou.com/church/5156/service-and-events/events/1
 158967/
END:VEVENT
END:VCALENDAR
