BEGIN:VCALENDAR
VERSION:2.0
PRODID:-//achurchnearyou.com//eventfeed//EN
CALSCALE:GREGORIAN
METHOD:PUBLISH
X-WR-TIMEZONE:UTC
BEGIN:VEVENT
SUMMARY:Quiz
DTSTART:20250905T180000Z
DTEND:20250905T200000Z
DTSTAMP:20260424T113728Z
UID:12126232025-09-05 18:00:00+00:00achurchnearyou
CATEGORIES:
DESCRIPTION:Our quarterly quizzes are a popular event in the community.\n\
 nTickets should be purchased in advance for £5 per person by contacting t
 he parish office. Maximum 6 per team.
GEO:0.292197;50.817218
LOCATION:St Luke's Church
URL:https://www.achurchnearyou.com/church/5166/service-and-events/events/1
 212623/
END:VEVENT
END:VCALENDAR
