BEGIN:VCALENDAR
VERSION:2.0
PRODID:-//achurchnearyou.com//eventfeed//EN
CALSCALE:GREGORIAN
METHOD:PUBLISH
X-WR-TIMEZONE:UTC
BEGIN:VEVENT
SUMMARY:Holy Communion\, first and third Sundays
DTSTART;TZID=Europe/London:20260405T110000
DTEND;TZID=Europe/London:20260405T120000
DTSTAMP:20260424T210959Z
UID:226961775383200.0achurchnearyou
CATEGORIES:
DESCRIPTION:Book of Common Prayer Holy Communion service with Hymns
GEO:-0.539709;50.960745
LOCATION:St Mary the Virgin
URL:https://stophamparishchurch.co.uk/latest-news
END:VEVENT
BEGIN:VEVENT
SUMMARY:Sung Evensong on the second Sunday
DTSTART;TZID=Europe/London:20260412T180000
DTEND;TZID=Europe/London:20260412T190000
DTSTAMP:20260424T210959Z
UID:8272411776013200.0achurchnearyou
CATEGORIES:
DESCRIPTION:Second Sunday of the month
GEO:-0.539709;50.960745
LOCATION:St Mary the Virgin
URL:https://stophamparishchurch.co.uk/latest-news
END:VEVENT
BEGIN:VEVENT
SUMMARY:Holy Communion\, first and third Sundays
DTSTART;TZID=Europe/London:20260419T110000
DTEND;TZID=Europe/London:20260419T120000
DTSTAMP:20260424T210959Z
UID:226961776592800.0achurchnearyou
CATEGORIES:
DESCRIPTION:Book of Common Prayer Holy Communion service with Hymns
GEO:-0.539709;50.960745
LOCATION:St Mary the Virgin
URL:https://stophamparishchurch.co.uk/latest-news
END:VEVENT
BEGIN:VEVENT
SUMMARY:Sung Matins - Every Fourth Sunday
DTSTART;TZID=Europe/London:20260426T110000
DTEND;TZID=Europe/London:20260426T120000
DTSTAMP:20260424T210959Z
UID:5316401777197600.0achurchnearyou
CATEGORIES:
DESCRIPTION:Book of Common Prayer\, KJV with hymns.
GEO:-0.539709;50.960745
LOCATION:St Mary the Virgin
URL:https://stophamparishchurch.co.uk/latest-news
END:VEVENT
BEGIN:VEVENT
SUMMARY:Holy Communion\, first and third Sundays
DTSTART;TZID=Europe/London:20260503T110000
DTEND;TZID=Europe/London:20260503T120000
DTSTAMP:20260424T210959Z
UID:226961777802400.0achurchnearyou
CATEGORIES:
DESCRIPTION:Book of Common Prayer Holy Communion service with Hymns
GEO:-0.539709;50.960745
LOCATION:St Mary the Virgin
URL:https://stophamparishchurch.co.uk/latest-news
END:VEVENT
BEGIN:VEVENT
SUMMARY:Sung Evensong on the second Sunday
DTSTART;TZID=Europe/London:20260510T180000
DTEND;TZID=Europe/London:20260510T190000
DTSTAMP:20260424T210959Z
UID:8272411778432400.0achurchnearyou
CATEGORIES:
DESCRIPTION:Second Sunday of the month
GEO:-0.539709;50.960745
LOCATION:St Mary the Virgin
URL:https://stophamparishchurch.co.uk/latest-news
END:VEVENT
BEGIN:VEVENT
SUMMARY:Holy Communion\, first and third Sundays
DTSTART;TZID=Europe/London:20260517T110000
DTEND;TZID=Europe/London:20260517T120000
DTSTAMP:20260424T210959Z
UID:226961779012000.0achurchnearyou
CATEGORIES:
DESCRIPTION:Book of Common Prayer Holy Communion service with Hymns
GEO:-0.539709;50.960745
LOCATION:St Mary the Virgin
URL:https://stophamparishchurch.co.uk/latest-news
END:VEVENT
BEGIN:VEVENT
SUMMARY:Sung Matins - Every Fourth Sunday
DTSTART;TZID=Europe/London:20260524T110000
DTEND;TZID=Europe/London:20260524T120000
DTSTAMP:20260424T210959Z
UID:5316401779616800.0achurchnearyou
CATEGORIES:
DESCRIPTION:Book of Common Prayer\, KJV with hymns.
GEO:-0.539709;50.960745
LOCATION:St Mary the Virgin
URL:https://stophamparishchurch.co.uk/latest-news
END:VEVENT
BEGIN:VEVENT
SUMMARY:Holy Communion\, first and third Sundays
DTSTART;TZID=Europe/London:20260607T110000
DTEND;TZID=Europe/London:20260607T120000
DTSTAMP:20260424T210959Z
UID:226961780826400.0achurchnearyou
CATEGORIES:
DESCRIPTION:Book of Common Prayer Holy Communion service with Hymns
GEO:-0.539709;50.960745
LOCATION:St Mary the Virgin
URL:https://stophamparishchurch.co.uk/latest-news
END:VEVENT
BEGIN:VEVENT
SUMMARY:Sung Evensong on the second Sunday
DTSTART;TZID=Europe/London:20260614T180000
DTEND;TZID=Europe/London:20260614T190000
DTSTAMP:20260424T210959Z
UID:8272411781456400.0achurchnearyou
CATEGORIES:
DESCRIPTION:Second Sunday of the month
GEO:-0.539709;50.960745
LOCATION:St Mary the Virgin
URL:https://stophamparishchurch.co.uk/latest-news
END:VEVENT
BEGIN:VEVENT
SUMMARY:Holy Communion\, first and third Sundays
DTSTART;TZID=Europe/London:20260621T110000
DTEND;TZID=Europe/London:20260621T120000
DTSTAMP:20260424T210959Z
UID:226961782036000.0achurchnearyou
CATEGORIES:
DESCRIPTION:Book of Common Prayer Holy Communion service with Hymns
GEO:-0.539709;50.960745
LOCATION:St Mary the Virgin
URL:https://stophamparishchurch.co.uk/latest-news
END:VEVENT
BEGIN:VEVENT
SUMMARY:Sung Matins - Every Fourth Sunday
DTSTART;TZID=Europe/London:20260628T110000
DTEND;TZID=Europe/London:20260628T120000
DTSTAMP:20260424T210959Z
UID:5316401782640800.0achurchnearyou
CATEGORIES:
DESCRIPTION:Book of Common Prayer\, KJV with hymns.
GEO:-0.539709;50.960745
LOCATION:St Mary the Virgin
URL:https://stophamparishchurch.co.uk/latest-news
END:VEVENT
BEGIN:VEVENT
SUMMARY:Holy Communion\, first and third Sundays
DTSTART;TZID=Europe/London:20260705T110000
DTEND;TZID=Europe/London:20260705T120000
DTSTAMP:20260424T210959Z
UID:226961783245600.0achurchnearyou
CATEGORIES:
DESCRIPTION:Book of Common Prayer Holy Communion service with Hymns
GEO:-0.539709;50.960745
LOCATION:St Mary the Virgin
URL:https://stophamparishchurch.co.uk/latest-news
END:VEVENT
BEGIN:VEVENT
SUMMARY:Sung Evensong on the second Sunday
DTSTART;TZID=Europe/London:20260712T180000
DTEND;TZID=Europe/London:20260712T190000
DTSTAMP:20260424T210959Z
UID:8272411783875600.0achurchnearyou
CATEGORIES:
DESCRIPTION:Second Sunday of the month
GEO:-0.539709;50.960745
LOCATION:St Mary the Virgin
URL:https://stophamparishchurch.co.uk/latest-news
END:VEVENT
BEGIN:VEVENT
SUMMARY:Holy Communion\, first and third Sundays
DTSTART;TZID=Europe/London:20260719T110000
DTEND;TZID=Europe/London:20260719T120000
DTSTAMP:20260424T210959Z
UID:226961784455200.0achurchnearyou
CATEGORIES:
DESCRIPTION:Book of Common Prayer Holy Communion service with Hymns
GEO:-0.539709;50.960745
LOCATION:St Mary the Virgin
URL:https://stophamparishchurch.co.uk/latest-news
END:VEVENT
BEGIN:VEVENT
SUMMARY:Sung Matins - Every Fourth Sunday
DTSTART;TZID=Europe/London:20260726T110000
DTEND;TZID=Europe/London:20260726T120000
DTSTAMP:20260424T210959Z
UID:5316401785060000.0achurchnearyou
CATEGORIES:
DESCRIPTION:Book of Common Prayer\, KJV with hymns.
GEO:-0.539709;50.960745
LOCATION:St Mary the Virgin
URL:https://stophamparishchurch.co.uk/latest-news
END:VEVENT
BEGIN:VEVENT
SUMMARY:Holy Communion\, first and third Sundays
DTSTART;TZID=Europe/London:20260802T110000
DTEND;TZID=Europe/London:20260802T120000
DTSTAMP:20260424T210959Z
UID:226961785664800.0achurchnearyou
CATEGORIES:
DESCRIPTION:Book of Common Prayer Holy Communion service with Hymns
GEO:-0.539709;50.960745
LOCATION:St Mary the Virgin
URL:https://stophamparishchurch.co.uk/latest-news
END:VEVENT
BEGIN:VEVENT
SUMMARY:Sung Evensong on the second Sunday
DTSTART;TZID=Europe/London:20260809T180000
DTEND;TZID=Europe/London:20260809T190000
DTSTAMP:20260424T210959Z
UID:8272411786294800.0achurchnearyou
CATEGORIES:
DESCRIPTION:Second Sunday of the month
GEO:-0.539709;50.960745
LOCATION:St Mary the Virgin
URL:https://stophamparishchurch.co.uk/latest-news
END:VEVENT
BEGIN:VEVENT
SUMMARY:Holy Communion\, first and third Sundays
DTSTART;TZID=Europe/London:20260816T110000
DTEND;TZID=Europe/London:20260816T120000
DTSTAMP:20260424T211000Z
UID:226961786874400.0achurchnearyou
CATEGORIES:
DESCRIPTION:Book of Common Prayer Holy Communion service with Hymns
GEO:-0.539709;50.960745
LOCATION:St Mary the Virgin
URL:https://stophamparishchurch.co.uk/latest-news
END:VEVENT
BEGIN:VEVENT
SUMMARY:Sung Matins - Every Fourth Sunday
DTSTART;TZID=Europe/London:20260823T110000
DTEND;TZID=Europe/London:20260823T120000
DTSTAMP:20260424T211000Z
UID:5316401787479200.0achurchnearyou
CATEGORIES:
DESCRIPTION:Book of Common Prayer\, KJV with hymns.
GEO:-0.539709;50.960745
LOCATION:St Mary the Virgin
URL:https://stophamparishchurch.co.uk/latest-news
END:VEVENT
BEGIN:VEVENT
SUMMARY:Holy Communion\, first and third Sundays
DTSTART;TZID=Europe/London:20260906T110000
DTEND;TZID=Europe/London:20260906T120000
DTSTAMP:20260424T211000Z
UID:226961788688800.0achurchnearyou
CATEGORIES:
DESCRIPTION:Book of Common Prayer Holy Communion service with Hymns
GEO:-0.539709;50.960745
LOCATION:St Mary the Virgin
URL:https://stophamparishchurch.co.uk/latest-news
END:VEVENT
BEGIN:VEVENT
SUMMARY:Sung Evensong on the second Sunday
DTSTART;TZID=Europe/London:20260913T180000
DTEND;TZID=Europe/London:20260913T190000
DTSTAMP:20260424T211000Z
UID:8272411789318800.0achurchnearyou
CATEGORIES:
DESCRIPTION:Second Sunday of the month
GEO:-0.539709;50.960745
LOCATION:St Mary the Virgin
URL:https://stophamparishchurch.co.uk/latest-news
END:VEVENT
BEGIN:VEVENT
SUMMARY:Holy Communion\, first and third Sundays
DTSTART;TZID=Europe/London:20260920T110000
DTEND;TZID=Europe/London:20260920T120000
DTSTAMP:20260424T211000Z
UID:226961789898400.0achurchnearyou
CATEGORIES:
DESCRIPTION:Book of Common Prayer Holy Communion service with Hymns
GEO:-0.539709;50.960745
LOCATION:St Mary the Virgin
URL:https://stophamparishchurch.co.uk/latest-news
END:VEVENT
BEGIN:VEVENT
SUMMARY:Sung Matins - Every Fourth Sunday
DTSTART;TZID=Europe/London:20260927T110000
DTEND;TZID=Europe/London:20260927T120000
DTSTAMP:20260424T211000Z
UID:5316401790503200.0achurchnearyou
CATEGORIES:
DESCRIPTION:Book of Common Prayer\, KJV with hymns.
GEO:-0.539709;50.960745
LOCATION:St Mary the Virgin
URL:https://stophamparishchurch.co.uk/latest-news
END:VEVENT
END:VCALENDAR
