BEGIN:VCALENDAR
VERSION:2.0
PRODID:-//achurchnearyou.com//eventfeed//EN
CALSCALE:GREGORIAN
METHOD:PUBLISH
X-WR-TIMEZONE:UTC
BEGIN:VEVENT
SUMMARY:Parish Partnership Eucharist
DTSTART:20260510T090000Z
DTEND:20260510T100000Z
DTSTAMP:20260423T172240Z
UID:13223442026-05-10 09:00:00+00:00achurchnearyou
CATEGORIES:
DESCRIPTION:This week we will combine the parishes Hampden Park\, the Hydn
 eye and Willingdon. \nThe Parish Eucharist will take place at 10.00am at S
 t Mary the Virgin\, Willingdon.\n\nAll are welcome.\n\nPlease make yoursel
 f known if you require a lift. And if you are unable to attend\, the servi
 ce will be live streamed on our Parish Partnership Facebook page (see link
  below).\n\nSorry for any inconvenience caused.
LOCATION:St Mary the Virgin\, Willingdon
URL:https://www.achurchnearyou.com/church/5180/service-and-events/events/1
 322344/
END:VEVENT
END:VCALENDAR
