BEGIN:VCALENDAR
VERSION:2.0
PRODID:-//achurchnearyou.com//eventfeed//EN
CALSCALE:GREGORIAN
METHOD:PUBLISH
X-WR-TIMEZONE:UTC
BEGIN:VEVENT
SUMMARY:Maundy Thursday Passover  Seder incorporating Holy Communion
DTSTART:20240328T180000Z
DTEND:20240328T210000Z
DTSTAMP:20260420T200147Z
UID:10356252024-03-28 18:00:00+00:00achurchnearyou
CATEGORIES:
DESCRIPTION:A bring and share meal with Seder liturgy\, singing (maybe eve
 n a bit of dancing) and including a celebration of Holy Communion.
GEO:-0.180349;51.101211
LOCATION:Holy Trinity Church
URL:https://www.achurchnearyou.com/church/5184/service-and-events/events/1
 035625/
END:VEVENT
END:VCALENDAR
