BEGIN:VCALENDAR
VERSION:2.0
PRODID:-//achurchnearyou.com//eventfeed//EN
CALSCALE:GREGORIAN
METHOD:PUBLISH
X-WR-TIMEZONE:UTC
BEGIN:VEVENT
SUMMARY:Passover Seder incorporating Communion for Maundy Thursday
DTSTART;TZID=Europe/London:20260402T180000
DTEND;TZID=Europe/London:20260402T210000
DTSTAMP:20260425T150813Z
UID:13201002026-04-02 18:00:00+01:00achurchnearyou
CATEGORIES:
DESCRIPTION:An evening that blends solemnity and fun\, scripture\, singing
 \, handwashing\, good food and fellowship. A bring-and-share meal is at th
 e heart of the evening. There will be an opportunity for quiet reflection 
 in the church at the end of the evening.\nFor all ages. Please bring dish 
 of something for the supper buffet. RSVP so we know how many place setting
 s we need.
GEO:-0.180349;51.101211
LOCATION:Holy Trinity Church
URL:https://www.achurchnearyou.com/church/5184/service-and-events/events/1
 320100/
END:VEVENT
END:VCALENDAR
