BEGIN:VCALENDAR
VERSION:2.0
PRODID:-//achurchnearyou.com//eventfeed//EN
CALSCALE:GREGORIAN
METHOD:PUBLISH
X-WR-TIMEZONE:UTC
BEGIN:VEVENT
SUMMARY:Sunrise service of Holy Communion for Easter
DTSTART;TZID=Europe/London:20260405T063000
DTEND;TZID=Europe/London:20260405T073000
DTSTAMP:20260425T115756Z
UID:13201052026-04-05 06:30:00+01:00achurchnearyou
CATEGORIES:
DESCRIPTION:Join with people from other churches\, by the boathouse in Til
 gate Park\, overlooking the lake\, for a service of Holy Communion at the 
 start of Easter Day. \nNo seating unless you bring a chair with you.\n\nAf
 terwards you are invited for refreshments at Holy Trinity Church\, Titmus 
 Drive.
GEO:-0.180349;51.101211
LOCATION:Holy Trinity Church
URL:https://www.achurchnearyou.com/church/5184/service-and-events/events/1
 320105/
END:VEVENT
END:VCALENDAR
