BEGIN:VCALENDAR
VERSION:2.0
PRODID:-//achurchnearyou.com//eventfeed//EN
CALSCALE:GREGORIAN
METHOD:PUBLISH
X-WR-TIMEZONE:UTC
BEGIN:VEVENT
SUMMARY:The Third Sunday of Epiphany Service at St. Peter's Twineham - Sun
 day 26th January 2025
DTSTART:20250126T100000Z
DTEND:20250126T110000Z
DTSTAMP:20260419T171531Z
UID:11454022025-01-26 10:00:00+00:00achurchnearyou
CATEGORIES:
DESCRIPTION:The Third Sunday of Epiphany Service will be held at St. Peter
 's Twineham on Sunday 26th January 2025 at 10.00a.m.  Do join us if you ca
 n.
LOCATION:St. Peter's Church Twineham
URL:https://www.achurchnearyou.com/church/5189/service-and-events/events/1
 145402/
END:VEVENT
END:VCALENDAR
